Workbook

Sheet ADHD PBS drugs since 1 July1992
A1: Australia - all ADHD PBS drugs - number of yearly prescriptions since 1 July 1992
A3: Dexamfetamine (PBS Item number 1165H) has been on the PBS since 1992
A4: Attenta - Ritalin 10 (PBS item number 8839F) - added to the PBS in August 2005
A5: Concerta (PBS item numbers 2387P, 2172H, 2388Q, 2432B) - added to the PBS in April 2007
A6: Strattera (PBS item numbers 9092M, 9093N, 9094P, 9095Q, 9096R) - added to the PBS in July 2007; PBS items 9289X and 9290Y added in Dec 2008
A7: Ritalin LA (PBS Items 2276T, 2280B, 2283E) - added to the PBS in April 2008; PBS item 3440C added in August 2010
A8: Lisdexamfetamine (PBS Item numbers 10486X, 10474G, 10492F) added to the PBS in September 2015
A10: Source: www.medicareaustralia.gov.au
A11: Disclaimer: Information on this spreadsheet is collated by CCHR National Office. Before relying on this material, users should independently verify its accuracy and relevence for their purposes
A13: Financial Year | B13: NSW | C13: Financial Year | D13: VIC | E13: Financial Year | F13: QLD | G13: Financial Year | H13: SA | I13: Financial Year | J13: WA | K13: Financial Year | L13: TAS | M13: Financial Year | N13: ACT | O13: Financial Year | P13: NT | Q13: Financial Year | R13: Australia
A14: 1992/1993 | B14: 6253 | C14: 1992/1993 | D14: 1590 | E14: 1992/1993 | F14: 2555 | G14: 1992/1993 | H14: 2250 | I14: 1992/1993 | J14: 3450 | K14: 1992/1993 | L14: 191 | M14: 1992/1993 | N14: 190 | O14: 1992/1993 | P14: 80 | Q14: 1992/1993 | R14: =SUM(B14+D14+F14+H14+J14+L14+N14+P14) -> 16559
A15: 1993/1994 | B15: 12402 | C15: 1993/1994 | D15: 3379 | E15: 1993/1994 | F15: 4606 | G15: 1993/1994 | H15: 3940 | I15: 1993/1994 | J15: 7879 | K15: 1993/1994 | L15: 435 | M15: 1993/1994 | N15: 460 | O15: 1993/1994 | P15: 137 | Q15: 1993/1994 | R15: =SUM(B15+D15+F15+H15+J15+L15+N15+P15) -> 33238
A16: 1994/1995 | B16: 23340 | C16: 1994/1995 | D16: 7238 | E16: 1994/1995 | F16: 7864 | G16: 1994/1995 | H16: 6502 | I16: 1994/1995 | J16: 14772 | K16: 1994/1995 | L16: 1243 | M16: 1994/1995 | N16: 973 | O16: 1994/1995 | P16: 405 | Q16: 1994/1995 | R16: =SUM(B16+D16+F16+H16+J16+L16+N16+P16) -> 62337
A17: 1995/1996 | B17: 34377 | C17: 1995/1996 | D17: 12497 | E17: 1995/1996 | F17: 12216 | G17: 1995/1996 | H17: 9871 | I17: 1995/1996 | J17: 23105 | K17: 1995/1996 | L17: 2377 | M17: 1995/1996 | N17: 1478 | O17: 1995/1996 | P17: 718 | Q17: 1995/1996 | R17: =SUM(B17+D17+F17+H17+J17+L17+N17+P17) -> 96639
A18: 1996/1997 | B18: 43392 | C18: 1996/1997 | D18: 16988 | E18: 1996/1997 | F18: 17558 | G18: 1996/1997 | H18: 14129 | I18: 1996/1997 | J18: 33619 | K18: 1996/1997 | L18: 3273 | M18: 1996/1997 | N18: 1772 | O18: 1996/1997 | P18: 629 | Q18: 1996/1997 | R18: =SUM(B18+D18+F18+H18+J18+L18+N18+P18) -> 131360
A19: 1997/1998 | B19: 49478 | C19: 1997/1998 | D19: 22367 | E19: 1997/1998 | F19: 21823 | G19: 1997/1998 | H19: 17031 | I19: 1997/1998 | J19: 44410 | K19: 1997/1998 | L19: 4857 | M19: 1997/1998 | N19: 1952 | O19: 1997/1998 | P19: 713 | Q19: 1997/1998 | R19: =SUM(B19+D19+F19+H19+J19+L19+N19+P19) -> 162631
A20: 1998/1999 | B20: 56479 | C20: 1998/1999 | D20: 27896 | E20: 1998/1999 | F20: 24746 | G20: 1998/1999 | H20: 19320 | I20: 1998/1999 | J20: 54841 | K20: 1998/1999 | L20: 6009 | M20: 1998/1999 | N20: 2163 | O20: 1998/1999 | P20: 706 | Q20: 1998/1999 | R20: =SUM(B20+D20+F20+H20+J20+L20+N20+P20) -> 192160
A21: 1999/2000 | B21: 61088 | C21: 1999/2000 | D21: 32029 | E21: 1999/2000 | F21: 29443 | G21: 1999/2000 | H21: 19253 | I21: 1999/2000 | J21: 64701 | K21: 1999/2000 | L21: 7661 | M21: 1999/2000 | N21: 2632 | O21: 1999/2000 | P21: 866 | Q21: 1999/2000 | R21: =SUM(B21+D21+F21+H21+J21+L21+N21+P21) -> 217673
A22: 2000/2001 | B22: 62674 | C22: 2000/2001 | D22: 33911 | E22: 2000/2001 | F22: 33233 | G22: 2000/2001 | H22: 18571 | I22: 2000/2001 | J22: 73199 | K22: 2000/2001 | L22: 8808 | M22: 2000/2001 | N22: 2994 | O22: 2000/2001 | P22: 775 | Q22: 2000/2001 | R22: =SUM(B22+D22+F22+H22+J22+L22+N22+P22) -> 234165
A23: 2001/2002 | B23: 62017 | C23: 2001/2002 | D23: 32908 | E23: 2001/2002 | F23: 34613 | G23: 2001/2002 | H23: 18588 | I23: 2001/2002 | J23: 77809 | K23: 2001/2002 | L23: 9178 | M23: 2001/2002 | N23: 2971 | O23: 2001/2002 | P23: 730 | Q23: 2001/2002 | R23: =SUM(B23+D23+F23+H23+J23+L23+N23+P23) -> 238814
A24: 2002/2003 | B24: 62526 | C24: 2002/2003 | D24: 32984 | E24: 2002/2003 | F24: 36638 | G24: 2002/2003 | H24: 19667 | I24: 2002/2003 | J24: 85926 | K24: 2002/2003 | L24: 9129 | M24: 2002/2003 | N24: 3236 | O24: 2002/2003 | P24: 745 | Q24: 2002/2003 | R24: =SUM(B24+D24+F24+H24+J24+L24+N24+P24) -> 250851
A25: 2003/2004 | B25: 61568 | C25: 2003/2004 | D25: 31954 | E25: 2003/2004 | F25: 36190 | G25: 2003/2004 | H25: 20026 | I25: 2003/2004 | J25: 86187 | K25: 2003/2004 | L25: 8841 | M25: 2003/2004 | N25: 3204 | O25: 2003/2004 | P25: 736 | Q25: 2003/2004 | R25: =SUM(B25+D25+F25+H25+J25+L25+N25+P25) -> 248706
... A37: 2015/2016 | B37: 309549 | C37: 2015/2016 | D37: 148564 | E37: 2015/2016 | F37: 204940 | G37: 2015/2016 | H37: 32661 | I37: 2015/2016 | J37: 124901 | K37: 2015/2016 | L37: 20024 | M37: 2015/2016 | N37: 14964 | O37: 2015/2016 | P37: 5721 | Q37: 2015/2016 | R37: =SUM(B37+D37+F37+H37+J37+L37+N37+P37) -> 861324
A38: 2016/2017 | B38: =SUM(dexamfetamine!C26+'Ritalin 10'!C26+Concerta!C135+'Strattera '!C231+'Ritalin LA'!C143+Lisdexamfetamine!C114) -> 329514 | C38: 2016/2017 | D38: =SUM(dexamfetamine!D26+'Ritalin 10'!D26+Concerta!D135+'Strattera '!D231+'Ritalin LA'!D143+Lisdexamfetamine!D114) -> 169051 | E38: 2016/2017 | F38: =SUM(dexamfetamine!E26+'Ritalin 10'!E26+Concerta!E135+'Strattera '!E231+'Ritalin LA'!E143+Lisdexamfetamine!E114) -> 223546 | G38: 2016/2017 | H38: =dexamfetamine!F26+'Ritalin 10'!F26+Concerta!F135+'Strattera '!F231+'Ritalin LA'!F143+Lisdexamfetamine!F114 -> 34894 | I38: 2016/2017 | J38: =SUM(dexamfetamine!G26+'Ritalin 10'!G26+Concerta!G135+'Strattera '!G231+'Ritalin LA'!G143+Lisdexamfetamine!G114) -> 141254 | K38: 2016/2017 | L38: =SUM(dexamfetamine!H26+'Ritalin 10'!H26+Concerta!H135+'Strattera '!H231+'Ritalin LA'!H143+Lisdexamfetamine!H114) -> 21910 | M38: 2016/2017 | N38: =SUM(dexamfetamine!I26+'Ritalin 10'!I26+Concerta!I135+'Strattera '!I231+'Ritalin LA'!I143+Lisdexamfetamine!I114) -> 16860 | O38: 2016/2017 | P38: =SUM(dexamfetamine!J26+'Ritalin 10'!J26+Concerta!J135+'Strattera '!J231+'Ritalin LA'!J143+Lisdexamfetamine!J114) -> 6751 | Q38: 2016/2017 | R38: =SUM(B38+D38+F38+H38+J38+L38+N38+P38) -> 943780
A39: 2017/2018 | B39: =SUM(dexamfetamine!C27+'Ritalin 10'!C27+Concerta!C136+'Strattera '!C232+'Ritalin LA'!C144+Lisdexamfetamine!C115) -> 365498 | C39: 2017/2018 | D39: =SUM(dexamfetamine!D27+'Ritalin 10'!D27+Concerta!D136+'Strattera '!D232+'Ritalin LA'!D144+Lisdexamfetamine!D115) -> 189656 | E39: 2017/2018 | F39: =SUM(dexamfetamine!E27+'Ritalin 10'!E27+Concerta!E136+'Strattera '!E232+'Ritalin LA'!E144+Lisdexamfetamine!E115) -> 242777 | G39: 2017/2018 | H39: =dexamfetamine!F27+'Ritalin 10'!F27+Concerta!F136+'Strattera '!F232+'Ritalin LA'!F144+Lisdexamfetamine!F115 -> 38048 | I39: 2017/2018 | J39: =SUM(dexamfetamine!G27+'Ritalin 10'!G27+Concerta!G136+'Strattera '!G232+'Ritalin LA'!G144+Lisdexamfetamine!G115) -> 151825 | K39: 2017/2018 | L39: =SUM(dexamfetamine!H27+'Ritalin 10'!H27+Concerta!H136+'Strattera '!H232+'Ritalin LA'!H144+Lisdexamfetamine!H115) -> 23490 | M39: 2017/2018 | N39: =SUM(dexamfetamine!I27+'Ritalin 10'!I27+Concerta!I136+'Strattera '!I232+'Ritalin LA'!I144+Lisdexamfetamine!I115) -> 19397 | O39: 2017/2018 | P39: =SUM(dexamfetamine!J27+'Ritalin 10'!J27+Concerta!J136+'Strattera '!J232+'Ritalin LA'!J144+Lisdexamfetamine!J115) -> 8724 | Q39: 2017/2018 | R39: =SUM(B39+D39+F39+H39+J39+L39+N39+P39) -> 1039415

Sheet Comparison state stats
B1: NSW | C1: VIC | D1: QLD | E1: SA | F1: WA | G1: TAS | H1: ACT | I1: NT | J1: Australia
A2: 1992/1993 | B2: 6253 | C2: 1590 | D2: 2555 | E2: 2250 | F2: 3450 | G2: 191 | H2: 190 | I2: 80 | J2: =SUM(B2:I2) -> 16559
A3: 1993/1994 | B3: 12402 | C3: 3379 | D3: 4606 | E3: 3940 | F3: 7879 | G3: 435 | H3: 460 | I3: 137 | J3: =SUM(B3:I3) -> 33238
A4: 1994/1995 | B4: 23340 | C4: 7238 | D4: 7864 | E4: 6502 | F4: 14772 | G4: 1243 | H4: 973 | I4: 405 | J4: =SUM(B4:I4) -> 62337
A5: 1995/1996 | B5: 34377 | C5: 12497 | D5: 12216 | E5: 9871 | F5: 23105 | G5: 2377 | H5: 1478 | I5: 718 | J5: =SUM(B5:I5) -> 96639
A6: 1996/1997 | B6: 43392 | C6: 16988 | D6: 17558 | E6: 14129 | F6: 33619 | G6: 3273 | H6: 1772 | I6: 629 | J6: =SUM(B6:I6) -> 131360
A7: 1997/1998 | B7: 49478 | C7: 22367 | D7: 21823 | E7: 17031 | F7: 44410 | G7: 4857 | H7: 1952 | I7: 713 | J7: =SUM(B7:I7) -> 162631
A8: 1998/1999 | B8: 56479 | C8: 27896 | D8: 24746 | E8: 19320 | F8: 54841 | G8: 6009 | H8: 2163 | I8: 706 | J8: =SUM(B8:I8) -> 192160
A9: 1999/2000 | B9: 61088 | C9: 32029 | D9: 29443 | E9: 19253 | F9: 64701 | G9: 7661 | H9: 2632 | I9: 866 | J9: =SUM(B9:I9) -> 217673
A10: 2000/2001 | B10: 62674 | C10: 33911 | D10: 33233 | E10: 18571 | F10: 73199 | G10: 8808 | H10: 2994 | I10: 775 | J10: =SUM(B10:I10) -> 234165
A11: 2001/2002 | B11: 62017 | C11: 32908 | D11: 34613 | E11: 18588 | F11: 77809 | G11: 9178 | H11: 2971 | I11: 730 | J11: =SUM(B11:I11) -> 238814
A12: 2002/2003 | B12: 62526 | C12: 32984 | D12: 36638 | E12: 19667 | F12: 85926 | G12: 9129 | H12: 3236 | I12: 745 | J12: =SUM(B12:I12) -> 250851
A13: 2003/2004 | B13: 61568 | C13: 31954 | D13: 36190 | E13: 20026 | F13: 86187 | G13: 8841 | H13: 3204 | I13: 736 | J13: =SUM(B13:I13) -> 248706
... A26: 2016/2017 | B26: 329514 | C26: 169051 | D26: 223546 | E26: 34894 | F26: 141254 | G26: 21910 | H26: 16860 | I26: 6751 | J26: =SUM(B26:I26) -> 943780
A27: 2017/2018 | B27: ='ADHD PBS drugs since 1 July1992'!B39 -> 365498 | C27: ='ADHD PBS drugs since 1 July1992'!D39 -> 189656 | D27: ='ADHD PBS drugs since 1 July1992'!F39 -> 242777 | E27: ='ADHD PBS drugs since 1 July1992'!H39 -> 38048 | F27: ='ADHD PBS drugs since 1 July1992'!J39 -> 151825 | G27: ='ADHD PBS drugs since 1 July1992'!L39 -> 23490 | H27: ='ADHD PBS drugs since 1 July1992'!N39 -> 19397 | I27: ='ADHD PBS drugs since 1 July1992'!P39 -> 8724 | J27: =SUM(B27:I27) -> 1039415
A28: Total | B28: =SUM(B2:B27) -> 3438814 | C28: =SUM(C2:C27) -> 1647389 | D28: =SUM(D2:D27) -> 2059934 | E28: =SUM(E2:E27) -> 534219 | F28: =SUM(F2:F27) -> 1879003 | G28: =SUM(G2:G27) -> 288139 | H28: =SUM(H2:H27) -> 167909 | I28: =SUM(I2:I27) -> 57781 | J28: =SUM(J2:J27) -> 10073188

Sheet dexamfetamine
C1: NSW | D1: VIC | E1: QLD | F1: SA | G1: WA | H1: TAS | I1: ACT | J1: NT | K1: Australia
A2: 1165H | B2: 1992/1993 | C2: 6253 | D2: 1590 | E2: 2555 | F2: 2250 | G2: 3450 | H2: 191 | I2: 190 | J2: 80 | K2: =SUM(C2:J2) -> 16559
B3: 1993/1994 | C3: 12402 | D3: 3379 | E3: 4606 | F3: 3940 | G3: 7879 | H3: 435 | I3: 460 | J3: 137 | K3: =SUM(C3:J3) -> 33238
B4: 1994/1995 | C4: 23340 | D4: 7238 | E4: 7864 | F4: 6502 | G4: 14772 | H4: 1243 | I4: 973 | J4: 405 | K4: =SUM(C4:J4) -> 62337
B5: 1995/1996 | C5: 34377 | D5: 12497 | E5: 12216 | F5: 9871 | G5: 23105 | H5: 2377 | I5: 1478 | J5: 718 | K5: =SUM(C5:J5) -> 96639
B6: 1996/1997 | C6: 43392 | D6: 16988 | E6: 17558 | F6: 14129 | G6: 33619 | H6: 3273 | I6: 1772 | J6: 629 | K6: =SUM(C6:J6) -> 131360
B7: 1997/1998 | C7: 49478 | D7: 22367 | E7: 21823 | F7: 17031 | G7: 44410 | H7: 4857 | I7: 1952 | J7: 713 | K7: =SUM(C7:J7) -> 162631
B8: 1998/1999 | C8: 56479 | D8: 27896 | E8: 24746 | F8: 19320 | G8: 54841 | H8: 6009 | I8: 2163 | J8: 706 | K8: =SUM(C8:J8) -> 192160
B9: 1999/2000 | C9: 61088 | D9: 32029 | E9: 29443 | F9: 19253 | G9: 64701 | H9: 7661 | I9: 2632 | J9: 866 | K9: =SUM(C9:J9) -> 217673
B10: 2000/2001 | C10: 62674 | D10: 33911 | E10: 33233 | F10: 18571 | G10: 73199 | H10: 8808 | I10: 2994 | J10: 775 | K10: =SUM(C10:J10) -> 234165
B11: 2001/2002 | C11: 62017 | D11: 32908 | E11: 34613 | F11: 18588 | G11: 77809 | H11: 9178 | I11: 2971 | J11: 730 | K11: =SUM(C11:J11) -> 238814
B12: 2002/2003 | C12: 62526 | D12: 32984 | E12: 36638 | F12: 19667 | G12: 85926 | H12: 9129 | I12: 3236 | J12: 745 | K12: =SUM(C12:J12) -> 250851
B13: 2003/2004 | C13: 61568 | D13: 31954 | E13: 36190 | F13: 20026 | G13: 86187 | H13: 8841 | I13: 3204 | J13: 736 | K13: =SUM(C13:J13) -> 248706
B14: 2004/2005 | C14: 57681 | D14: 30512 | E14: 36614 | F14: 19495 | G14: 76317 | H14: 8522 | I14: 3073 | J14: 693 | K14: =SUM(C14:J14) -> 232907
... B27: 2017/2018 | C27: 31961 | D27: 25118 | E27: 30113 | F27: 10049 | G27: 56188 | H27: 2133 | I27: 1997 | J27: 571 | K27: =SUM(C27:J27) -> 158130

Sheet Ritalin 10
C1: NSW | D1: VIC | E1: QLD | F1: SA | G1: WA | H1: TAS | I1: ACT | J1: NT | K1: Australia
A2: 8839F | B2: 1992/1993 | C2: 0 | D2: 0 | E2: 0 | F2: 0 | G2: 0 | H2: 0 | I2: 0 | J2: 0 | K2: =SUM(C2:J2) -> 0
B3: 1993/1994 | C3: 0 | D3: 0 | E3: 0 | F3: 0 | G3: 0 | H3: 0 | I3: 0 | J3: 0 | K3: =SUM(C3:J3) -> 0
B4: 1994/1995 | C4: 0 | D4: 0 | E4: 0 | F4: 0 | G4: 0 | H4: 0 | I4: 0 | J4: 0 | K4: =SUM(C4:J4) -> 0
B5: 1995/1996 | C5: 0 | D5: 0 | E5: 0 | F5: 0 | G5: 0 | H5: 0 | I5: 0 | J5: 0 | K5: =SUM(C5:J5) -> 0
B6: 1996/1997 | C6: 0 | D6: 0 | E6: 0 | F6: 0 | G6: 0 | H6: 0 | I6: 0 | J6: 0 | K6: =SUM(C6:J6) -> 0
B7: 1997/1998 | C7: 0 | D7: 0 | E7: 0 | F7: 0 | G7: 0 | H7: 0 | I7: 0 | J7: 0 | K7: =SUM(C7:J7) -> 0
B8: 1998/1999 | C8: 0 | D8: 0 | E8: 0 | F8: 0 | G8: 0 | H8: 0 | I8: 0 | J8: 0 | K8: =SUM(C8:J8) -> 0
B9: 1999/2000 | C9: 0 | D9: 0 | E9: 0 | F9: 0 | G9: 0 | H9: 0 | I9: 0 | J9: 0 | K9: =SUM(C9:J9) -> 0
B10: 2000/2001 | C10: 0 | D10: 0 | E10: 0 | F10: 0 | G10: 0 | H10: 0 | I10: 0 | J10: 0 | K10: =SUM(C10:J10) -> 0
B11: 2001/2002 | C11: 0 | D11: 0 | E11: 0 | F11: 0 | G11: 0 | H11: 0 | I11: 0 | J11: 0 | K11: =SUM(C11:J11) -> 0
B12: 2002/2003 | C12: 0 | D12: 0 | E12: 0 | F12: 0 | G12: 0 | H12: 0 | I12: 0 | J12: 0 | K12: =SUM(C12:J12) -> 0
B13: 2003/2004 | C13: 0 | D13: 0 | E13: 0 | F13: 0 | G13: 0 | H13: 0 | I13: 0 | J13: 0 | K13: =SUM(C13:J13) -> 0
B14: 2004/2005 | C14: 0 | D14: 0 | E14: 0 | F14: 0 | G14: 0 | H14: 0 | I14: 0 | J14: 0 | K14: =SUM(C14:J14) -> 0
... B27: 2017/2018 | C27: 43417 | D27: 21345 | E27: 30747 | F27: 5907 | G27: 7858 | H27: 3538 | I27: 887 | J27: 1241 | K27: =SUM(C27:J27) -> 114940

Sheet Concerta
A1: Concerta | C1: NSW | D1: VIC | E1: QLD | F1: SA | G1: WA | H1: TAS | I1: ACT | J1: NT | K1: Australia
A2: 2387P | B2: 1992/1993 | C2: 0 | D2: 0 | E2: 0 | F2: 0 | G2: 0 | H2: 0 | I2: 0 | J2: 0 | K2: =SUM(C2:J2) -> 0
A3: 18mg | B3: 1993/1994 | C3: 0 | D3: 0 | E3: 0 | F3: 0 | G3: 0 | H3: 0 | I3: 0 | J3: 0 | K3: =SUM(C3:J3) -> 0
B4: 1994/1995 | C4: 0 | D4: 0 | E4: 0 | F4: 0 | G4: 0 | H4: 0 | I4: 0 | J4: 0 | K4: =SUM(C4:J4) -> 0
B5: 1995/1996 | C5: 0 | D5: 0 | E5: 0 | F5: 0 | G5: 0 | H5: 0 | I5: 0 | J5: 0 | K5: =SUM(C5:J5) -> 0
B6: 1996/1997 | C6: 0 | D6: 0 | E6: 0 | F6: 0 | G6: 0 | H6: 0 | I6: 0 | J6: 0 | K6: =SUM(C6:J6) -> 0
B7: 1997/1998 | C7: 0 | D7: 0 | E7: 0 | F7: 0 | G7: 0 | H7: 0 | I7: 0 | J7: 0 | K7: =SUM(C7:J7) -> 0
B8: 1998/1999 | C8: 0 | D8: 0 | E8: 0 | F8: 0 | G8: 0 | H8: 0 | I8: 0 | J8: 0 | K8: =SUM(C8:J8) -> 0
B9: 1999/2000 | C9: 0 | D9: 0 | E9: 0 | F9: 0 | G9: 0 | H9: 0 | I9: 0 | J9: 0 | K9: =SUM(C9:J9) -> 0
B10: 2000/2001 | C10: 0 | D10: 0 | E10: 0 | F10: 0 | G10: 0 | H10: 0 | I10: 0 | J10: 0 | K10: =SUM(C10:J10) -> 0
B11: 2001/2002 | C11: 0 | D11: 0 | E11: 0 | F11: 0 | G11: 0 | H11: 0 | I11: 0 | J11: 0 | K11: =SUM(C11:J11) -> 0
B12: 2002/2003 | C12: 0 | D12: 0 | E12: 0 | F12: 0 | G12: 0 | H12: 0 | I12: 0 | J12: 0 | K12: =SUM(C12:J12) -> 0
B13: 2003/2004 | C13: 0 | D13: 0 | E13: 0 | F13: 0 | G13: 0 | H13: 0 | I13: 0 | J13: 0 | K13: =SUM(C13:J13) -> 0
B14: 2004/2005 | C14: 0 | D14: 0 | E14: 0 | F14: 0 | G14: 0 | H14: 0 | I14: 0 | J14: 0 | K14: =SUM(C14:J14) -> 0
B15: 2005/2006 | C15: 0 | D15: 0 | E15: 0 | F15: 0 | G15: 0 | H15: 0 | I15: 0 | J15: 0 | K15: =SUM(C15:J15) -> 0
... B27: 2017/2018 | C27: 14207 | D27: 6145 | E27: 9470 | F27: 970 | G27: 3044 | H27: 555 | I27: 815 | J27: 551 | K27: =SUM(C27:J27) -> 35757
A29: 2172H | B29: 1992/1993 | C29: 0 | D29: 0 | E29: 0 | F29: 0 | G29: 0 | H29: 0 | I29: 0 | J29: 0 | K29: =SUM(C29:J29) -> 0
A30: 27mg | B30: 1993/1994 | C30: 0 | D30: 0 | E30: 0 | F30: 0 | G30: 0 | H30: 0 | I30: 0 | J30: 0 | K30: =SUM(C30:J30) -> 0
B31: 1994/1995 | C31: 0 | D31: 0 | E31: 0 | F31: 0 | G31: 0 | H31: 0 | I31: 0 | J31: 0 | K31: =SUM(C31:J31) -> 0
B32: 1995/1996 | C32: 0 | D32: 0 | E32: 0 | F32: 0 | G32: 0 | H32: 0 | I32: 0 | J32: 0 | K32: =SUM(C32:J32) -> 0
B33: 1996/1997 | C33: 0 | D33: 0 | E33: 0 | F33: 0 | G33: 0 | H33: 0 | I33: 0 | J33: 0 | K33: =SUM(C33:J33) -> 0
B34: 1997/1998 | C34: 0 | D34: 0 | E34: 0 | F34: 0 | G34: 0 | H34: 0 | I34: 0 | J34: 0 | K34: =SUM(C34:J34) -> 0
B35: 1998/1999 | C35: 0 | D35: 0 | E35: 0 | F35: 0 | G35: 0 | H35: 0 | I35: 0 | J35: 0 | K35: =SUM(C35:J35) -> 0
B36: 1999/2000 | C36: 0 | D36: 0 | E36: 0 | F36: 0 | G36: 0 | H36: 0 | I36: 0 | J36: 0 | K36: =SUM(C36:J36) -> 0
B37: 2000/2001 | C37: 0 | D37: 0 | E37: 0 | F37: 0 | G37: 0 | H37: 0 | I37: 0 | J37: 0 | K37: =SUM(C37:J37) -> 0
B38: 2001/2002 | C38: 0 | D38: 0 | E38: 0 | F38: 0 | G38: 0 | H38: 0 | I38: 0 | J38: 0 | K38: =SUM(C38:J38) -> 0
B39: 2002/2003 | C39: 0 | D39: 0 | E39: 0 | F39: 0 | G39: 0 | H39: 0 | I39: 0 | J39: 0 | K39: =SUM(C39:J39) -> 0
B40: 2003/2004 | C40: 0 | D40: 0 | E40: 0 | F40: 0 | G40: 0 | H40: 0 | I40: 0 | J40: 0 | K40: =SUM(C40:J40) -> 0
B41: 2004/2005 | C41: 0 | D41: 0 | E41: 0 | F41: 0 | G41: 0 | H41: 0 | I41: 0 | J41: 0 | K41: =SUM(C41:J41) -> 0
B42: 2005/2006 | C42: 0 | D42: 0 | E42: 0 | F42: 0 | G42: 0 | H42: 0 | I42: 0 | J42: 0 | K42: =SUM(C42:J42) -> 0
B43: 2006/2007 | C43: 0 | D43: 0 | E43: 0 | F43: 0 | G43: 0 | H43: 0 | I43: 0 | J43: 0 | K43: =SUM(C43:J43) -> 0
B44: 2007/2008 | C44: 6698 | D44: 2458 | E44: 2208 | F44: 362 | G44: 1171 | H44: 639 | I44: 222 | J44: 111 | K44: 13869
B45: 2008/2009 | C45: 14815 | D45: 4858 | E45: 6020 | F45: 1067 | G45: 2688 | H45: 1194 | I45: 546 | J45: 243 | K45: 31431
B46: 2009/2010 | C46: 17481 | D46: 5573 | E46: 7822 | F46: 1273 | G46: 3156 | H46: 1331 | I46: 609 | J46: 317 | K46: 37562
B47: 2010/2011 | C47: 18633 | D47: 5992 | E47: 8710 | F47: 1229 | G47: 3570 | H47: 1481 | I47: 689 | J47: 329 | K47: 40633
B48: 2011/2012 | C48: 20511 | D48: 6406 | E48: 10122 | F48: 1293 | G48: 3940 | H48: 1308 | I48: 756 | J48: 464 | K48: 44800
B49: 2012/2013 | C49: 23088 | D49: 7149 | E49: 11110 | F49: 1410 | G49: 4141 | H49: 1251 | I49: 1039 | J49: 468 | K49: 49656
B50: 2013/2014 | C50: 25483 | D50: 8605 | E50: 12532 | F50: 1577 | G50: 4695 | H50: 1321 | I50: 1091 | J50: 550 | K50: 55854
B51: 2014/2015 | C51: 26934 | D51: 9685 | E51: 14143 | F51: 1903 | G51: 5125 | H51: 1302 | I51: 1500 | J51: 708 | K51: 61300
B52: 2015/2016 | C52: 27314 | D52: 10709 | E52: 15740 | F52: 2057 | G52: 5578 | H52: 1235 | I52: 1581 | J52: 842 | K52: 65056
B53: 2016/2017 | C53: 27432 | D53: 11252 | E53: 15709 | F53: 2148 | G53: 5489 | H53: 1207 | I53: 1629 | J53: 1026 | K53: =SUM(C53:J53) -> 65892
B54: 2017/2018 | C54: 28678 | D54: 12308 | E54: 15707 | F54: 2139 | G54: 5468 | H54: 1260 | I54: 1591 | J54: 1132 | K54: =SUM(C54:J54) -> 68283
A56: 2388Q | B56: 1992/1993 | C56: 0 | D56: 0 | E56: 0 | F56: 0 | G56: 0 | H56: 0 | I56: 0 | J56: 0 | K56: =SUM(C56:J56) -> 0
A57: 36mg | B57: 1993/1994 | C57: 0 | D57: 0 | E57: 0 | F57: 0 | G57: 0 | H57: 0 | I57: 0 | J57: 0 | K57: =SUM(C57:J57) -> 0
B58: 1994/1995 | C58: 0 | D58: 0 | E58: 0 | F58: 0 | G58: 0 | H58: 0 | I58: 0 | J58: 0 | K58: =SUM(C58:J58) -> 0
B59: 1995/1996 | C59: 0 | D59: 0 | E59: 0 | F59: 0 | G59: 0 | H59: 0 | I59: 0 | J59: 0 | K59: =SUM(C59:J59) -> 0
B60: 1996/1997 | C60: 0 | D60: 0 | E60: 0 | F60: 0 | G60: 0 | H60: 0 | I60: 0 | J60: 0 | K60: =SUM(C60:J60) -> 0
B61: 1997/1998 | C61: 0 | D61: 0 | E61: 0 | F61: 0 | G61: 0 | H61: 0 | I61: 0 | J61: 0 | K61: =SUM(C61:J61) -> 0
B62: 1998/1999 | C62: 0 | D62: 0 | E62: 0 | F62: 0 | G62: 0 | H62: 0 | I62: 0 | J62: 0 | K62: =SUM(C62:J62) -> 0
B63: 1999/2000 | C63: 0 | D63: 0 | E63: 0 | F63: 0 | G63: 0 | H63: 0 | I63: 0 | J63: 0 | K63: =SUM(C63:J63) -> 0
B64: 2000/2001 | C64: 0 | D64: 0 | E64: 0 | F64: 0 | G64: 0 | H64: 0 | I64: 0 | J64: 0 | K64: =SUM(C64:J64) -> 0
B65: 2001/2002 | C65: 0 | D65: 0 | E65: 0 | F65: 0 | G65: 0 | H65: 0 | I65: 0 | J65: 0 | K65: =SUM(C65:J65) -> 0
B66: 2002/2003 | C66: 0 | D66: 0 | E66: 0 | F66: 0 | G66: 0 | H66: 0 | I66: 0 | J66: 0 | K66: =SUM(C66:J66) -> 0
B67: 2003/2004 | C67: 0 | D67: 0 | E67: 0 | F67: 0 | G67: 0 | H67: 0 | I67: 0 | J67: 0 | K67: =SUM(C67:J67) -> 0
B68: 2004/2005 | C68: 0 | D68: 0 | E68: 0 | F68: 0 | G68: 0 | H68: 0 | I68: 0 | J68: 0 | K68: =SUM(C68:J68) -> 0
B69: 2005/2006 | C69: 0 | D69: 0 | E69: 0 | F69: 0 | G69: 0 | H69: 0 | I69: 0 | J69: 0 | K69: =SUM(C69:J69) -> 0
... B81: 2017/2018 | C81: 51509 | D81: 22769 | E81: 28264 | F81: 3913 | G81: 9631 | H81: 2337 | I81: 2663 | J81: 1115 | K81: =SUM(C81:J81) -> 122201
A83: 2432B | B83: 1992/1993 | C83: 0 | D83: 0 | E83: 0 | F83: 0 | G83: 0 | H83: 0 | I83: 0 | J83: 0 | K83: =SUM(C83:J83) -> 0
A84: 54 mg | B84: 1993/1994 | C84: 0 | D84: 0 | E84: 0 | F84: 0 | G84: 0 | H84: 0 | I84: 0 | J84: 0 | K84: =SUM(C84:J84) -> 0
B85: 1994/1995 | C85: 0 | D85: 0 | E85: 0 | F85: 0 | G85: 0 | H85: 0 | I85: 0 | J85: 0 | K85: =SUM(C85:J85) -> 0
B86: 1995/1996 | C86: 0 | D86: 0 | E86: 0 | F86: 0 | G86: 0 | H86: 0 | I86: 0 | J86: 0 | K86: =SUM(C86:J86) -> 0
B87: 1996/1997 | C87: 0 | D87: 0 | E87: 0 | F87: 0 | G87: 0 | H87: 0 | I87: 0 | J87: 0 | K87: =SUM(C87:J87) -> 0
B88: 1997/1998 | C88: 0 | D88: 0 | E88: 0 | F88: 0 | G88: 0 | H88: 0 | I88: 0 | J88: 0 | K88: =SUM(C88:J88) -> 0
B89: 1998/1999 | C89: 0 | D89: 0 | E89: 0 | F89: 0 | G89: 0 | H89: 0 | I89: 0 | J89: 0 | K89: =SUM(C89:J89) -> 0
B90: 1999/2000 | C90: 0 | D90: 0 | E90: 0 | F90: 0 | G90: 0 | H90: 0 | I90: 0 | J90: 0 | K90: =SUM(C90:J90) -> 0
B91: 2000/2001 | C91: 0 | D91: 0 | E91: 0 | F91: 0 | G91: 0 | H91: 0 | I91: 0 | J91: 0 | K91: =SUM(C91:J91) -> 0
B92: 2001/2002 | C92: 0 | D92: 0 | E92: 0 | F92: 0 | G92: 0 | H92: 0 | I92: 0 | J92: 0 | K92: =SUM(C92:J92) -> 0
B93: 2002/2003 | C93: 0 | D93: 0 | E93: 0 | F93: 0 | G93: 0 | H93: 0 | I93: 0 | J93: 0 | K93: =SUM(C93:J93) -> 0
B94: 2003/2004 | C94: 0 | D94: 0 | E94: 0 | F94: 0 | G94: 0 | H94: 0 | I94: 0 | J94: 0 | K94: =SUM(C94:J94) -> 0
B95: 2004/2005 | C95: 0 | D95: 0 | E95: 0 | F95: 0 | G95: 0 | H95: 0 | I95: 0 | J95: 0 | K95: =SUM(C95:J95) -> 0
B96: 2005/2006 | C96: 0 | D96: 0 | E96: 0 | F96: 0 | G96: 0 | H96: 0 | I96: 0 | J96: 0 | K96: =SUM(C96:J96) -> 0
... B108: 2017/2018 | C108: 46556 | D108: 21025 | E108: 27066 | F108: 3077 | G108: 9522 | H108: 2495 | I108: 2256 | J108: 869 | K108: =SUM(C108:J108) -> 112866
A110: Summary | C110: NSW | D110: VIC | E110: QLD | F110: SA | G110: WA | H110: TAS | I110: ACT | J110: NT | K110: Australia
B111: 1992/1993 | C111: =SUM(C2+C29+C56+C83) -> 0 | D111: =SUM(D2+D29+D56+D83) -> 0 | E111: =SUM(E2+E29+E56+E83) -> 0 | F111: =SUM(F2+F29+F56+F83) -> 0 | G111: =SUM(G2+G29+G56+G83) -> 0 | H111: =SUM(H2+H29+H56+H83) -> 0 | I111: =SUM(I2+I29+I56+I83) -> 0 | J111: =SUM(J2+J29+J56+J83) -> 0 | K111: =SUM(K2+K29+K56+K83) -> 0
B112: 1993/1994 | C112: =SUM(C3+C30+C57+C84) -> 0 | D112: =SUM(D3+D30+D57+D84) -> 0 | E112: =SUM(E3+E30+E57+E84) -> 0 | F112: =SUM(F3+F30+F57+F84) -> 0 | G112: =SUM(G3+G30+G57+G84) -> 0 | H112: =SUM(H3+H30+H57+H84) -> 0 | I112: =SUM(I3+I30+I57+I84) -> 0 | J112: =SUM(J3+J30+J57+J84) -> 0 | K112: =SUM(K3+K30+K57+K84) -> 0
B113: 1994/1995 | C113: =SUM(C4+C31+C58+C85) -> 0 | D113: =SUM(D4+D31+D58+D85) -> 0 | E113: =SUM(E4+E31+E58+E85) -> 0 | F113: =SUM(F4+F31+F58+F85) -> 0 | G113: =SUM(G4+G31+G58+G85) -> 0 | H113: =SUM(H4+H31+H58+H85) -> 0 | I113: =SUM(I4+I31+I58+I85) -> 0 | J113: =SUM(J4+J31+J58+J85) -> 0 | K113: =SUM(K4+K31+K58+K85) -> 0
B114: 1995/1996 | C114: =SUM(C5+C32+C59+C86) -> 0 | D114: =SUM(D5+D32+D59+D86) -> 0 | E114: =SUM(E5+E32+E59+E86) -> 0 | F114: =SUM(F5+F32+F59+F86) -> 0 | G114: =SUM(G5+G32+G59+G86) -> 0 | H114: =SUM(H5+H32+H59+H86) -> 0 | I114: =SUM(I5+I32+I59+I86) -> 0 | J114: =SUM(J5+J32+J59+J86) -> 0 | K114: =SUM(K5+K32+K59+K86) -> 0
B115: 1996/1997 | C115: =SUM(C6+C33+C60+C87) -> 0 | D115: =SUM(D6+D33+D60+D87) -> 0 | E115: =SUM(E6+E33+E60+E87) -> 0 | F115: =SUM(F6+F33+F60+F87) -> 0 | G115: =SUM(G6+G33+G60+G87) -> 0 | H115: =SUM(H6+H33+H60+H87) -> 0 | I115: =SUM(I6+I33+I60+I87) -> 0 | J115: =SUM(J6+J33+J60+J87) -> 0 | K115: =SUM(K6+K33+K60+K87) -> 0
B116: 1997/1998 | C116: =SUM(C7+C34+C61+C88) -> 0 | D116: =SUM(D7+D34+D61+D88) -> 0 | E116: =SUM(E7+E34+E61+E88) -> 0 | F116: =SUM(F7+F34+F61+F88) -> 0 | G116: =SUM(G7+G34+G61+G88) -> 0 | H116: =SUM(H7+H34+H61+H88) -> 0 | I116: =SUM(I7+I34+I61+I88) -> 0 | J116: =SUM(J7+J34+J61+J88) -> 0 | K116: =SUM(K7+K34+K61+K88) -> 0
B117: 1998/1999 | C117: =SUM(C8+C35+C62+C89) -> 0 | D117: =SUM(D8+D35+D62+D89) -> 0 | E117: =SUM(E8+E35+E62+E89) -> 0 | F117: =SUM(F8+F35+F62+F89) -> 0 | G117: =SUM(G8+G35+G62+G89) -> 0 | H117: =SUM(H8+H35+H62+H89) -> 0 | I117: =SUM(I8+I35+I62+I89) -> 0 | J117: =SUM(J8+J35+J62+J89) -> 0 | K117: =SUM(K8+K35+K62+K89) -> 0
B118: 1999/2000 | C118: =SUM(C9+C36+C63+C90) -> 0 | D118: =SUM(D9+D36+D63+D90) -> 0 | E118: =SUM(E9+E36+E63+E90) -> 0 | F118: =SUM(F9+F36+F63+F90) -> 0 | G118: =SUM(G9+G36+G63+G90) -> 0 | H118: =SUM(H9+H36+H63+H90) -> 0 | I118: =SUM(I9+I36+I63+I90) -> 0 | J118: =SUM(J9+J36+J63+J90) -> 0 | K118: =SUM(K9+K36+K63+K90) -> 0
B119: 2000/2001 | C119: =SUM(C10+C37+C64+C91) -> 0 | D119: =SUM(D10+D37+D64+D91) -> 0 | E119: =SUM(E10+E37+E64+E91) -> 0 | F119: =SUM(F10+F37+F64+F91) -> 0 | G119: =SUM(G10+G37+G64+G91) -> 0 | H119: =SUM(H10+H37+H64+H91) -> 0 | I119: =SUM(I10+I37+I64+I91) -> 0 | J119: =SUM(J10+J37+J64+J91) -> 0 | K119: =SUM(K10+K37+K64+K91) -> 0
B120: 2001/2002 | C120: =SUM(C11+C38+C65+C92) -> 0 | D120: =SUM(D11+D38+D65+D92) -> 0 | E120: =SUM(E11+E38+E65+E92) -> 0 | F120: =SUM(F11+F38+F65+F92) -> 0 | G120: =SUM(G11+G38+G65+G92) -> 0 | H120: =SUM(H11+H38+H65+H92) -> 0 | I120: =SUM(I11+I38+I65+I92) -> 0 | J120: =SUM(J11+J38+J65+J92) -> 0 | K120: =SUM(K11+K38+K65+K92) -> 0
B121: 2002/2003 | C121: =SUM(C12+C39+C66+C93) -> 0 | D121: =SUM(D12+D39+D66+D93) -> 0 | E121: =SUM(E12+E39+E66+E93) -> 0 | F121: =SUM(F12+F39+F66+F93) -> 0 | G121: =SUM(G12+G39+G66+G93) -> 0 | H121: =SUM(H12+H39+H66+H93) -> 0 | I121: =SUM(I12+I39+I66+I93) -> 0 | J121: =SUM(J12+J39+J66+J93) -> 0 | K121: =SUM(K12+K39+K66+K93) -> 0
B122: 2003/2004 | C122: =SUM(C13+C40+C67+C94) -> 0 | D122: =SUM(D13+D40+D67+D94) -> 0 | E122: =SUM(E13+E40+E67+E94) -> 0 | F122: =SUM(F13+F40+F67+F94) -> 0 | G122: =SUM(G13+G40+G67+G94) -> 0 | H122: =SUM(H13+H40+H67+H94) -> 0 | I122: =SUM(I13+I40+I67+I94) -> 0 | J122: =SUM(J13+J40+J67+J94) -> 0 | K122: =SUM(K13+K40+K67+K94) -> 0
... B135: 2016/2017 | C135: =SUM(C26+C53+C80+C107) -> 135025 | D135: =SUM(D26+D53+D80+D107) -> 57771 | E135: =SUM(E26+E53+E80+E107) -> 79941 | F135: =SUM(F26+F53+F80+F107) -> 9865 | G135: =SUM(G26+G53+G80+G107) -> 27962 | H135: =SUM(H26+H53+H80+H107) -> 6583 | I135: =SUM(I26+I53+I80+I107) -> 6984 | J135: =SUM(J26+J53+J80+J107) -> 3186 | K135: =SUM(K26+K53+K80+K107) -> 327317
B136: 2017/2018 | C136: =SUM(C27+C54+C81+C108) -> 140950 | D136: =SUM(D27+D54+D81+D108) -> 62247 | E136: =SUM(E27+E54+E81+E108) -> 80507 | F136: =SUM(F27+F54+F81+F108) -> 10099 | G136: =SUM(G27+G54+G81+G108) -> 27665 | H136: =SUM(H27+H54+H81+H108) -> 6647 | I136: =SUM(I27+I54+I81+I108) -> 7325 | J136: =SUM(J27+J54+J81+J108) -> 3667 | K136: =SUM(C136:J136) -> 339107

Sheet Strattera 
A1: Strattera | C1: NSW | D1: VIC | E1: QLD | F1: SA | G1: WA | H1: TAS | I1: ACT | J1: NT | K1: Australia
A2: 9092M | B2: 1992/1993 | C2: 0 | D2: 0 | E2: 0 | F2: 0 | G2: 0 | H2: 0 | I2: 0 | J2: 0 | K2: =SUM(C2:J2) -> 0
A3: 10mg | B3: 1993/1994 | C3: 0 | D3: 0 | E3: 0 | F3: 0 | G3: 0 | H3: 0 | I3: 0 | J3: 0 | K3: =SUM(C3:J3) -> 0
B4: 1994/1995 | C4: 0 | D4: 0 | E4: 0 | F4: 0 | G4: 0 | H4: 0 | I4: 0 | J4: 0 | K4: =SUM(C4:J4) -> 0
B5: 1995/1996 | C5: 0 | D5: 0 | E5: 0 | F5: 0 | G5: 0 | H5: 0 | I5: 0 | J5: 0 | K5: =SUM(C5:J5) -> 0
B6: 1996/1997 | C6: 0 | D6: 0 | E6: 0 | F6: 0 | G6: 0 | H6: 0 | I6: 0 | J6: 0 | K6: =SUM(C6:J6) -> 0
B7: 1997/1998 | C7: 0 | D7: 0 | E7: 0 | F7: 0 | G7: 0 | H7: 0 | I7: 0 | J7: 0 | K7: =SUM(C7:J7) -> 0
B8: 1998/1999 | C8: 0 | D8: 0 | E8: 0 | F8: 0 | G8: 0 | H8: 0 | I8: 0 | J8: 0 | K8: =SUM(C8:J8) -> 0
B9: 1999/2000 | C9: 0 | D9: 0 | E9: 0 | F9: 0 | G9: 0 | H9: 0 | I9: 0 | J9: 0 | K9: =SUM(C9:J9) -> 0
B10: 2000/2001 | C10: 0 | D10: 0 | E10: 0 | F10: 0 | G10: 0 | H10: 0 | I10: 0 | J10: 0 | K10: =SUM(C10:J10) -> 0
B11: 2001/2002 | C11: 0 | D11: 0 | E11: 0 | F11: 0 | G11: 0 | H11: 0 | I11: 0 | J11: 0 | K11: =SUM(C11:J11) -> 0
B12: 2002/2003 | C12: 0 | D12: 0 | E12: 0 | F12: 0 | G12: 0 | H12: 0 | I12: 0 | J12: 0 | K12: =SUM(C12:J12) -> 0
B13: 2003/2004 | C13: 0 | D13: 0 | E13: 0 | F13: 0 | G13: 0 | H13: 0 | I13: 0 | J13: 0 | K13: =SUM(C13:J13) -> 0
B14: 2004/2005 | C14: 0 | D14: 0 | E14: 0 | F14: 0 | G14: 0 | H14: 0 | I14: 0 | J14: 0 | K14: =SUM(C14:J14) -> 0
B15: 2005/2006 | C15: 0 | D15: 0 | E15: 0 | F15: 0 | G15: 0 | H15: 0 | I15: 0 | J15: 0 | K15: =SUM(C15:J15) -> 0
... B27: 2017/2018 | C27: 2132 | D27: 1388 | E27: 3145 | F27: 244 | G27: 854 | H27: 510 | I27: 120 | J27: 43 | K27: =SUM(C27:J27) -> 8436
A31: 9093N | B31: 1992/1993 | C31: 0 | D31: 0 | E31: 0 | F31: 0 | G31: 0 | H31: 0 | I31: 0 | J31: 0 | K31: =SUM(C31:J31) -> 0
A32: 18mg | B32: 1993/1994 | C32: 0 | D32: 0 | E32: 0 | F32: 0 | G32: 0 | H32: 0 | I32: 0 | J32: 0 | K32: =SUM(C32:J32) -> 0
B33: 1994/1995 | C33: 0 | D33: 0 | E33: 0 | F33: 0 | G33: 0 | H33: 0 | I33: 0 | J33: 0 | K33: =SUM(C33:J33) -> 0
B34: 1995/1996 | C34: 0 | D34: 0 | E34: 0 | F34: 0 | G34: 0 | H34: 0 | I34: 0 | J34: 0 | K34: =SUM(C34:J34) -> 0
B35: 1996/1997 | C35: 0 | D35: 0 | E35: 0 | F35: 0 | G35: 0 | H35: 0 | I35: 0 | J35: 0 | K35: =SUM(C35:J35) -> 0
B36: 1997/1998 | C36: 0 | D36: 0 | E36: 0 | F36: 0 | G36: 0 | H36: 0 | I36: 0 | J36: 0 | K36: =SUM(C36:J36) -> 0
B37: 1998/1999 | C37: 0 | D37: 0 | E37: 0 | F37: 0 | G37: 0 | H37: 0 | I37: 0 | J37: 0 | K37: =SUM(C37:J37) -> 0
B38: 1999/2000 | C38: 0 | D38: 0 | E38: 0 | F38: 0 | G38: 0 | H38: 0 | I38: 0 | J38: 0 | K38: =SUM(C38:J38) -> 0
B39: 2000/2001 | C39: 0 | D39: 0 | E39: 0 | F39: 0 | G39: 0 | H39: 0 | I39: 0 | J39: 0 | K39: =SUM(C39:J39) -> 0
B40: 2001/2002 | C40: 0 | D40: 0 | E40: 0 | F40: 0 | G40: 0 | H40: 0 | I40: 0 | J40: 0 | K40: =SUM(C40:J40) -> 0
B41: 2002/2003 | C41: 0 | D41: 0 | E41: 0 | F41: 0 | G41: 0 | H41: 0 | I41: 0 | J41: 0 | K41: =SUM(C41:J41) -> 0
B42: 2003/2004 | C42: 0 | D42: 0 | E42: 0 | F42: 0 | G42: 0 | H42: 0 | I42: 0 | J42: 0 | K42: =SUM(C42:J42) -> 0
B43: 2004/2005 | C43: 0 | D43: 0 | E43: 0 | F43: 0 | G43: 0 | H43: 0 | I43: 0 | J43: 0 | K43: =SUM(C43:J43) -> 0
B44: 2005/2006 | C44: 0 | D44: 0 | E44: 0 | F44: 0 | G44: 0 | H44: 0 | I44: 0 | J44: 0 | K44: =SUM(C44:J44) -> 0
B45: 2006/2007 | C45: 0 | D45: 0 | E45: 0 | F45: 0 | G45: 0 | H45: 0 | I45: 0 | J45: 0 | K45: =SUM(C45:J45) -> 0
B46: 2007/2008 | C46: 571 | D46: 306 | E46: 464 | F46: 96 | G46: 182 | H46: 17 | I46: 20 | J46: 4 | K46: 1660
B47: 2008/2009 | C47: 828 | D47: 412 | E47: 1132 | F47: 140 | G47: 281 | H47: 32 | I47: 93 | J47: 13 | K47: 2931
B48: 2009/2010 | C48: 962 | D48: 539 | E48: 1245 | F48: 159 | G48: 192 | H48: 52 | I48: 85 | J48: 12 | K48: 3246
B49: 2010/2011 | C49: 1129 | D49: 539 | E49: 1450 | F49: 197 | G49: 168 | H49: 88 | I49: 187 | J49: 36 | K49: 3794
B50: 2011/2012 | C50: 1151 | D50: 574 | E50: 1545 | F50: 202 | G50: 264 | H50: 96 | I50: 131 | J50: 51 | K50: 4014
B51: 2012/2013 | C51: 1259 | D51: 713 | E51: 1582 | F51: 183 | G51: 261 | H51: 83 | I51: 109 | J51: 34 | K51: 4224
B52: 2013/2014 | C52: 1376 | D52: 804 | E52: 1617 | F52: 143 | G52: 340 | H52: 111 | I52: 127 | J52: 28 | K52: 4546
B53: 2014/2015 | C53: 1623 | D53: 870 | E53: 1923 | F53: 151 | G53: 348 | H53: 132 | I53: 112 | J53: 16 | K53: 5175
B54: 2015/2016 | C54: 1774 | D54: 789 | E54: 2109 | F54: 119 | G54: 493 | H54: 102 | I54: 100 | J54: 25 | K54: 5511
B55: 2016/2017 | C55: 1923 | D55: 950 | E55: 2047 | F55: 125 | G55: 504 | H55: 125 | I55: 58 | J55: 30 | K55: 5762
B56: 2017/2018 | C56: 2036 | D56: 994 | E56: 2212 | F56: 177 | G56: 682 | H56: 162 | I56: 125 | J56: 58 | K56: =SUM(C56:J56) -> 6446
A60: 9094P | B60: 1992/1993 | C60: 0 | D60: 0 | E60: 0 | F60: 0 | G60: 0 | H60: 0 | I60: 0 | J60: 0 | K60: =SUM(C60:J60) -> 0
A61: 25mg | B61: 1993/1994 | C61: 0 | D61: 0 | E61: 0 | F61: 0 | G61: 0 | H61: 0 | I61: 0 | J61: 0 | K61: =SUM(C61:J61) -> 0
B62: 1994/1995 | C62: 0 | D62: 0 | E62: 0 | F62: 0 | G62: 0 | H62: 0 | I62: 0 | J62: 0 | K62: =SUM(C62:J62) -> 0
B63: 1995/1996 | C63: 0 | D63: 0 | E63: 0 | F63: 0 | G63: 0 | H63: 0 | I63: 0 | J63: 0 | K63: =SUM(C63:J63) -> 0
B64: 1996/1997 | C64: 0 | D64: 0 | E64: 0 | F64: 0 | G64: 0 | H64: 0 | I64: 0 | J64: 0 | K64: =SUM(C64:J64) -> 0
B65: 1997/1998 | C65: 0 | D65: 0 | E65: 0 | F65: 0 | G65: 0 | H65: 0 | I65: 0 | J65: 0 | K65: =SUM(C65:J65) -> 0
B66: 1998/1999 | C66: 0 | D66: 0 | E66: 0 | F66: 0 | G66: 0 | H66: 0 | I66: 0 | J66: 0 | K66: =SUM(C66:J66) -> 0
B67: 1999/2000 | C67: 0 | D67: 0 | E67: 0 | F67: 0 | G67: 0 | H67: 0 | I67: 0 | J67: 0 | K67: =SUM(C67:J67) -> 0
B68: 2000/2001 | C68: 0 | D68: 0 | E68: 0 | F68: 0 | G68: 0 | H68: 0 | I68: 0 | J68: 0 | K68: =SUM(C68:J68) -> 0
B69: 2001/2002 | C69: 0 | D69: 0 | E69: 0 | F69: 0 | G69: 0 | H69: 0 | I69: 0 | J69: 0 | K69: =SUM(C69:J69) -> 0
B70: 2002/2003 | C70: 0 | D70: 0 | E70: 0 | F70: 0 | G70: 0 | H70: 0 | I70: 0 | J70: 0 | K70: =SUM(C70:J70) -> 0
B71: 2003/2004 | C71: 0 | D71: 0 | E71: 0 | F71: 0 | G71: 0 | H71: 0 | I71: 0 | J71: 0 | K71: =SUM(C71:J71) -> 0
B72: 2004/2005 | C72: 0 | D72: 0 | E72: 0 | F72: 0 | G72: 0 | H72: 0 | I72: 0 | J72: 0 | K72: =SUM(C72:J72) -> 0
B73: 2005/2006 | C73: 0 | D73: 0 | E73: 0 | F73: 0 | G73: 0 | H73: 0 | I73: 0 | J73: 0 | K73: =SUM(C73:J73) -> 0
B74: 2006/2007 | C74: 0 | D74: 0 | E74: 0 | F74: 0 | G74: 0 | H74: 0 | I74: 0 | J74: 0 | K74: =SUM(C74:J74) -> 0
B75: 2007/2008 | C75: 1171 | D75: 471 | E75: 916 | F75: 101 | G75: 305 | H75: 84 | I75: 38 | J75: 5 | K75: 3091
B76: 2008/2009 | C76: 1693 | D76: 698 | E76: 1842 | F76: 276 | G76: 511 | H76: 98 | I76: 86 | J76: 17 | K76: 5221
B77: 2009/2010 | C77: 2055 | D77: 1009 | E77: 2143 | F77: 307 | G77: 589 | H77: 90 | I77: 95 | J77: 58 | K77: 6346
B78: 2010/2011 | C78: 2123 | D78: 1250 | E78: 2719 | F78: 357 | G78: 623 | H78: 101 | I78: 191 | J78: 42 | K78: 7406
B79: 2011/2012 | C79: 2160 | D79: 1237 | E79: 2906 | F79: 318 | G79: 686 | H79: 165 | I79: 131 | J79: 51 | K79: 7654
B80: 2012/2013 | C80: 2298 | D80: 1276 | E80: 3174 | F80: 370 | G80: 811 | H80: 266 | I80: 132 | J80: 56 | K80: 8383
B81: 2013/2014 | C81: 2563 | D81: 1574 | E81: 3348 | F81: 375 | G81: 801 | H81: 306 | I81: 152 | J81: 82 | K81: 9201
B82: 2014/2015 | C82: 2800 | D82: 1624 | E82: 3358 | F82: 330 | G82: 835 | H82: 322 | I82: 134 | J82: 96 | K82: 9499
B83: 2015/2016 | C83: 2983 | D83: 1469 | E83: 3523 | F83: 297 | G83: 857 | H83: 302 | I83: 170 | J83: 91 | K83: 9692
B84: 2016/2017 | C84: 3117 | D84: 1581 | E84: 3163 | F84: 305 | G84: 892 | H84: 299 | I84: 153 | J84: 80 | K84: 9590
B85: 2017/2018 | C85: 3413 | D85: 1683 | E85: 3578 | F85: 370 | G85: 1114 | H85: 315 | I85: 191 | J85: 74 | K85: =SUM(C85:J85) -> 10738
A89: 9095Q | B89: 1992/1993 | C89: 0 | D89: 0 | E89: 0 | F89: 0 | G89: 0 | H89: 0 | I89: 0 | J89: 0 | K89: =SUM(C89:J89) -> 0
A90: 40mg | B90: 1993/1994 | C90: 0 | D90: 0 | E90: 0 | F90: 0 | G90: 0 | H90: 0 | I90: 0 | J90: 0 | K90: =SUM(C90:J90) -> 0
B91: 1994/1995 | C91: 0 | D91: 0 | E91: 0 | F91: 0 | G91: 0 | H91: 0 | I91: 0 | J91: 0 | K91: =SUM(C91:J91) -> 0
B92: 1995/1996 | C92: 0 | D92: 0 | E92: 0 | F92: 0 | G92: 0 | H92: 0 | I92: 0 | J92: 0 | K92: =SUM(C92:J92) -> 0
B93: 1996/1997 | C93: 0 | D93: 0 | E93: 0 | F93: 0 | G93: 0 | H93: 0 | I93: 0 | J93: 0 | K93: =SUM(C93:J93) -> 0
B94: 1997/1998 | C94: 0 | D94: 0 | E94: 0 | F94: 0 | G94: 0 | H94: 0 | I94: 0 | J94: 0 | K94: =SUM(C94:J94) -> 0
B95: 1998/1999 | C95: 0 | D95: 0 | E95: 0 | F95: 0 | G95: 0 | H95: 0 | I95: 0 | J95: 0 | K95: =SUM(C95:J95) -> 0
B96: 1999/2000 | C96: 0 | D96: 0 | E96: 0 | F96: 0 | G96: 0 | H96: 0 | I96: 0 | J96: 0 | K96: =SUM(C96:J96) -> 0
B97: 2000/2001 | C97: 0 | D97: 0 | E97: 0 | F97: 0 | G97: 0 | H97: 0 | I97: 0 | J97: 0 | K97: =SUM(C97:J97) -> 0
B98: 2001/2002 | C98: 0 | D98: 0 | E98: 0 | F98: 0 | G98: 0 | H98: 0 | I98: 0 | J98: 0 | K98: =SUM(C98:J98) -> 0
B99: 2002/2003 | C99: 0 | D99: 0 | E99: 0 | F99: 0 | G99: 0 | H99: 0 | I99: 0 | J99: 0 | K99: =SUM(C99:J99) -> 0
B100: 2003/2004 | C100: 0 | D100: 0 | E100: 0 | F100: 0 | G100: 0 | H100: 0 | I100: 0 | J100: 0 | K100: =SUM(C100:J100) -> 0
B101: 2004/2005 | C101: 0 | D101: 0 | E101: 0 | F101: 0 | G101: 0 | H101: 0 | I101: 0 | J101: 0 | K101: =SUM(C101:J101) -> 0
B102: 2005/2006 | C102: 0 | D102: 0 | E102: 0 | F102: 0 | G102: 0 | H102: 0 | I102: 0 | J102: 0 | K102: =SUM(C102:J102) -> 0
B103: 2006/2007 | C103: 0 | D103: 0 | E103: 0 | F103: 0 | G103: 0 | H103: 0 | I103: 0 | J103: 0 | K103: =SUM(C103:J103) -> 0
B104: 2007/2008 | C104: 2014 | D104: 641 | E104: 1638 | F104: 182 | G104: 517 | H104: 88 | I104: 63 | J104: 13 | K104: 5156
B105: 2008/2009 | C105: 2796 | D105: 1235 | E105: 2703 | F105: 352 | G105: 983 | H105: 132 | I105: 189 | J105: 26 | K105: 8416
B106: 2009/2010 | C106: 2788 | D106: 1339 | E106: 2903 | F106: 321 | G106: 765 | H106: 104 | I106: 179 | J106: 27 | K106: 8426
B107: 2010/2011 | C107: 2852 | D107: 1452 | E107: 2917 | F107: 256 | G107: 749 | H107: 181 | I107: 197 | J107: 19 | K107: 8623
B108: 2011/2012 | C108: 2753 | D108: 1497 | E108: 2978 | F108: 302 | G108: 781 | H108: 283 | I108: 154 | J108: 44 | K108: 8792
B109: 2012/2013 | C109: 2670 | D109: 1441 | E109: 3251 | F109: 257 | G109: 805 | H109: 280 | I109: 198 | J109: 45 | K109: 8947
B110: 2013/2014 | C110: 2772 | D110: 1557 | E110: 3412 | F110: 267 | G110: 927 | H110: 259 | I110: 199 | J110: 41 | K110: 9434
B111: 2014/2015 | C111: 3059 | D111: 1802 | E111: 3418 | F111: 223 | G111: 1052 | H111: 300 | I111: 187 | J111: 67 | K111: 10108
B112: 2015/2016 | C112: 3136 | D112: 1853 | E112: 3643 | F112: 259 | G112: 1307 | H112: 273 | I112: 228 | J112: 66 | K112: 10765
B113: 2016/2017 | C113: 3360 | D113: 1897 | E113: 3562 | F113: 336 | G113: 1284 | H113: 458 | I113: 231 | J113: 92 | K113: 11220
B114: 2017/2018 | C114: 3511 | D114: 2063 | E114: 3521 | F114: 349 | G114: 1331 | H114: 483 | I114: 205 | J114: 71 | K114: =SUM(C114:J114) -> 11534
A118: 9096R | B118: 1992/1993 | C118: 0 | D118: 0 | E118: 0 | F118: 0 | G118: 0 | H118: 0 | I118: 0 | J118: 0 | K118: =SUM(C118:J118) -> 0
A119: 60mg | B119: 1993/1994 | C119: 0 | D119: 0 | E119: 0 | F119: 0 | G119: 0 | H119: 0 | I119: 0 | J119: 0 | K119: =SUM(C119:J119) -> 0
B120: 1994/1995 | C120: 0 | D120: 0 | E120: 0 | F120: 0 | G120: 0 | H120: 0 | I120: 0 | J120: 0 | K120: =SUM(C120:J120) -> 0
B121: 1995/1996 | C121: 0 | D121: 0 | E121: 0 | F121: 0 | G121: 0 | H121: 0 | I121: 0 | J121: 0 | K121: =SUM(C121:J121) -> 0
B122: 1996/1997 | C122: 0 | D122: 0 | E122: 0 | F122: 0 | G122: 0 | H122: 0 | I122: 0 | J122: 0 | K122: =SUM(C122:J122) -> 0
B123: 1997/1998 | C123: 0 | D123: 0 | E123: 0 | F123: 0 | G123: 0 | H123: 0 | I123: 0 | J123: 0 | K123: =SUM(C123:J123) -> 0
...

Sheet Ritalin LA
A1: Ritalin LA | C1: NSW | D1: VIC | E1: QLD | F1: SA | G1: WA | H1: TAS | I1: ACT | J1: NT | K1: Australia
A2: 2276T | B2: 1992/1993 | C2: 0 | D2: 0 | E2: 0 | F2: 0 | G2: 0 | H2: 0 | I2: 0 | J2: 0 | K2: =SUM(C2:J3) -> 0
A3: 20mg | B3: 1993/1994 | C3: 0 | D3: 0 | E3: 0 | F3: 0 | G3: 0 | H3: 0 | I3: 0 | J3: 0 | K3: =SUM(C3:J4) -> 0
B4: 1994/1995 | C4: 0 | D4: 0 | E4: 0 | F4: 0 | G4: 0 | H4: 0 | I4: 0 | J4: 0 | K4: =SUM(C4:J5) -> 0
B5: 1995/1996 | C5: 0 | D5: 0 | E5: 0 | F5: 0 | G5: 0 | H5: 0 | I5: 0 | J5: 0 | K5: =SUM(C5:J6) -> 0
B6: 1996/1997 | C6: 0 | D6: 0 | E6: 0 | F6: 0 | G6: 0 | H6: 0 | I6: 0 | J6: 0 | K6: =SUM(C6:J7) -> 0
B7: 1997/1998 | C7: 0 | D7: 0 | E7: 0 | F7: 0 | G7: 0 | H7: 0 | I7: 0 | J7: 0 | K7: =SUM(C7:J8) -> 0
B8: 1998/1999 | C8: 0 | D8: 0 | E8: 0 | F8: 0 | G8: 0 | H8: 0 | I8: 0 | J8: 0 | K8: =SUM(C8:J9) -> 0
B9: 1999/2000 | C9: 0 | D9: 0 | E9: 0 | F9: 0 | G9: 0 | H9: 0 | I9: 0 | J9: 0 | K9: =SUM(C9:J10) -> 0
B10: 2000/2001 | C10: 0 | D10: 0 | E10: 0 | F10: 0 | G10: 0 | H10: 0 | I10: 0 | J10: 0 | K10: =SUM(C10:J11) -> 0
B11: 2001/2002 | C11: 0 | D11: 0 | E11: 0 | F11: 0 | G11: 0 | H11: 0 | I11: 0 | J11: 0 | K11: =SUM(C11:J12) -> 0
B12: 2002/2003 | C12: 0 | D12: 0 | E12: 0 | F12: 0 | G12: 0 | H12: 0 | I12: 0 | J12: 0 | K12: =SUM(C12:J13) -> 0
B13: 2003/2004 | C13: 0 | D13: 0 | E13: 0 | F13: 0 | G13: 0 | H13: 0 | I13: 0 | J13: 0 | K13: =SUM(C13:J14) -> 0
B14: 2004/2005 | C14: 0 | D14: 0 | E14: 0 | F14: 0 | G14: 0 | H14: 0 | I14: 0 | J14: 0 | K14: =SUM(C14:J15) -> 0
B15: 2005/2006 | C15: 0 | D15: 0 | E15: 0 | F15: 0 | G15: 0 | H15: 0 | I15: 0 | J15: 0 | K15: =SUM(C15:J16) -> 0
B16: 2006/2007 | C16: 0 | D16: 0 | E16: 0 | F16: 0 | G16: 0 | H16: 0 | I16: 0 | J16: 0 | K16: =SUM(C16:J16) -> 0
B17: 2007/2008 | C17: 428 | D17: 268 | E17: 226 | F17: 42 | G17: 153 | H17: 25 | I17: 18 | J17: 24 | K17: =SUM(C17:J17) -> 1184
B18: 2008/2009 | C18: 7730 | D18: 3897 | E18: 4068 | F18: 608 | G18: 2242 | H18: 272 | I18: 296 | J18: 133 | K18: =SUM(C18:J18) -> 19246
B19: 2009/2010 | C19: 10784 | D19: 5270 | E19: 5310 | F19: 845 | G19: 2924 | H19: 492 | I19: 453 | J19: 187 | K19: =SUM(C19:J19) -> 26265
B20: 2010/2011 | C20: 12773 | D20: 5793 | E20: 6108 | F20: 870 | G20: 3446 | H20: 658 | I20: 543 | J20: 171 | K20: =SUM(C20:J20) -> 30362
B21: 2011/2012 | C21: 14619 | D21: 6609 | E21: 7338 | F21: 1020 | G21: 4462 | H21: 842 | I21: 645 | J21: 252 | K21: =SUM(C21:J21) -> 35787
B22: 2012/2013 | C22: 16851 | D22: 7369 | E22: 8447 | F22: 1154 | G22: 5219 | H22: 905 | I22: 737 | J22: 246 | K22: =SUM(C22:J22) -> 40928
B23: 2013/2014 | C23: 18876 | D23: 8347 | E23: 10482 | F23: 1250 | G23: 6459 | H23: 1191 | I23: 1140 | J23: 230 | K23: =SUM(C23:J23) -> 47975
B24: 2014/2015 | C24: 19803 | D24: 9751 | E24: 12084 | F24: 1383 | G24: 6981 | H24: 1409 | I24: 1217 | J24: 332 | K24: =SUM(C24:J24) -> 52960
B25: 2015/2016 | C25: 20462 | D25: 10225 | E25: 13609 | F25: 1369 | G25: 7605 | H25: 1357 | I25: 1293 | J25: 394 | K25: =SUM(C25:J25) -> 56314
B26: 2016/2017 | C26: 21114 | D26: 11113 | E26: 13574 | F26: 1337 | G26: 7591 | H26: 1119 | I26: 1566 | J26: 513 | K26: =SUM(C26:J26) -> 57927
B27: 2017/2018 | C27: 21664 | D27: 11901 | E27: 14298 | F27: 1543 | G27: 7191 | H27: 1233 | I27: 1712 | J27: 690 | K27: =SUM(C27:J27) -> 60232
A31: 2280B | B31: 1992/1993 | C31: 0 | D31: 0 | E31: 0 | F31: 0 | G31: 0 | H31: 0 | I31: 0 | J31: 0 | K31: =SUM(C31:J32) -> 0
A32: 30mg | B32: 1993/1994 | C32: 0 | D32: 0 | E32: 0 | F32: 0 | G32: 0 | H32: 0 | I32: 0 | J32: 0 | K32: =SUM(C32:J33) -> 0
B33: 1994/1995 | C33: 0 | D33: 0 | E33: 0 | F33: 0 | G33: 0 | H33: 0 | I33: 0 | J33: 0 | K33: =SUM(C33:J34) -> 0
B34: 1995/1996 | C34: 0 | D34: 0 | E34: 0 | F34: 0 | G34: 0 | H34: 0 | I34: 0 | J34: 0 | K34: =SUM(C34:J35) -> 0
B35: 1996/1997 | C35: 0 | D35: 0 | E35: 0 | F35: 0 | G35: 0 | H35: 0 | I35: 0 | J35: 0 | K35: =SUM(C35:J36) -> 0
B36: 1997/1998 | C36: 0 | D36: 0 | E36: 0 | F36: 0 | G36: 0 | H36: 0 | I36: 0 | J36: 0 | K36: =SUM(C36:J37) -> 0
B37: 1998/1999 | C37: 0 | D37: 0 | E37: 0 | F37: 0 | G37: 0 | H37: 0 | I37: 0 | J37: 0 | K37: =SUM(C37:J38) -> 0
B38: 1999/2000 | C38: 0 | D38: 0 | E38: 0 | F38: 0 | G38: 0 | H38: 0 | I38: 0 | J38: 0 | K38: =SUM(C38:J39) -> 0
B39: 2000/2001 | C39: 0 | D39: 0 | E39: 0 | F39: 0 | G39: 0 | H39: 0 | I39: 0 | J39: 0 | K39: =SUM(C39:J40) -> 0
B40: 2001/2002 | C40: 0 | D40: 0 | E40: 0 | F40: 0 | G40: 0 | H40: 0 | I40: 0 | J40: 0 | K40: =SUM(C40:J41) -> 0
B41: 2002/2003 | C41: 0 | D41: 0 | E41: 0 | F41: 0 | G41: 0 | H41: 0 | I41: 0 | J41: 0 | K41: =SUM(C41:J42) -> 0
B42: 2003/2004 | C42: 0 | D42: 0 | E42: 0 | F42: 0 | G42: 0 | H42: 0 | I42: 0 | J42: 0 | K42: =SUM(C42:J43) -> 0
B43: 2004/2005 | C43: 0 | D43: 0 | E43: 0 | F43: 0 | G43: 0 | H43: 0 | I43: 0 | J43: 0 | K43: =SUM(C43:J44) -> 0
B44: 2005/2006 | C44: 0 | D44: 0 | E44: 0 | F44: 0 | G44: 0 | H44: 0 | I44: 0 | J44: 0 | K44: =SUM(C44:J45) -> 0
B45: 2006/2007 | C45: 0 | D45: 0 | E45: 0 | F45: 0 | G45: 0 | H45: 0 | I45: 0 | J45: 0 | K45: =SUM(C45:J45) -> 0
B46: 2007/2008 | C46: 359 | D46: 222 | E46: 218 | F46: 51 | G46: 141 | H46: 25 | I46: 12 | J46: 15 | K46: =SUM(C46:J46) -> 1043
B47: 2008/2009 | C47: 6686 | D47: 3362 | E47: 3799 | F47: 647 | G47: 2561 | H47: 454 | I47: 176 | J47: 147 | K47: =SUM(C47:J47) -> 17832
B48: 2009/2010 | C48: 9566 | D48: 4485 | E48: 4935 | F48: 828 | G48: 3218 | H48: 771 | I48: 322 | J48: 150 | K48: =SUM(C48:J48) -> 24275
B49: 2010/2011 | C49: 13108 | D49: 5344 | E49: 5805 | F49: 1082 | G49: 3591 | H49: 966 | I49: 449 | J49: 174 | K49: =SUM(C49:J49) -> 30519
B50: 2011/2012 | C50: 14919 | D50: 6249 | E50: 7098 | F50: 1243 | G50: 4452 | H50: 1168 | I50: 516 | J50: 168 | K50: =SUM(C50:J50) -> 35813
B51: 2012/2013 | C51: 16542 | D51: 7269 | E51: 7969 | F51: 1427 | G51: 5158 | H51: 1364 | I51: 672 | J51: 203 | K51: =SUM(C51:J51) -> 40604
B52: 2013/2014 | C52: 19171 | D52: 8334 | E52: 9390 | F52: 1617 | G52: 5880 | H52: 1644 | I52: 892 | J52: 297 | K52: =SUM(C52:J52) -> 47225
B53: 2014/2015 | C53: 19552 | D53: 8522 | E53: 10565 | F53: 1501 | G53: 6462 | H53: 1782 | I53: 940 | J53: 344 | K53: =SUM(C53:J53) -> 49668
B54: 2015/2016 | C54: 20144 | D54: 8865 | E54: 11493 | F54: 1647 | G54: 6678 | H54: 1906 | I54: 1090 | J54: 331 | K54: =SUM(C54:J54) -> 52154
B55: 2016/2017 | C55: 19650 | D55: 9152 | E55: 12229 | F55: 1719 | G55: 6934 | H55: 1798 | I55: 1052 | J55: 387 | K55: =SUM(C55:J55) -> 52921
B56: 2017/2018 | C56: 21400 | D56: 9942 | E56: 13457 | F56: 1713 | G56: 7001 | H56: 1865 | I56: 1157 | J56: 540 | K56: =SUM(C56:J56) -> 57075
A60: 2283E | B60: 1992/1993 | C60: 0 | D60: 0 | E60: 0 | F60: 0 | G60: 0 | H60: 0 | I60: 0 | J60: 0 | K60: =SUM(C60:J61) -> 0
A61: 40mg | B61: 1993/1994 | C61: 0 | D61: 0 | E61: 0 | F61: 0 | G61: 0 | H61: 0 | I61: 0 | J61: 0 | K61: =SUM(C61:J62) -> 0
B62: 1994/1995 | C62: 0 | D62: 0 | E62: 0 | F62: 0 | G62: 0 | H62: 0 | I62: 0 | J62: 0 | K62: =SUM(C62:J63) -> 0
B63: 1995/1996 | C63: 0 | D63: 0 | E63: 0 | F63: 0 | G63: 0 | H63: 0 | I63: 0 | J63: 0 | K63: =SUM(C63:J64) -> 0
B64: 1996/1997 | C64: 0 | D64: 0 | E64: 0 | F64: 0 | G64: 0 | H64: 0 | I64: 0 | J64: 0 | K64: =SUM(C64:J65) -> 0
B65: 1997/1998 | C65: 0 | D65: 0 | E65: 0 | F65: 0 | G65: 0 | H65: 0 | I65: 0 | J65: 0 | K65: =SUM(C65:J66) -> 0
B66: 1998/1999 | C66: 0 | D66: 0 | E66: 0 | F66: 0 | G66: 0 | H66: 0 | I66: 0 | J66: 0 | K66: =SUM(C66:J67) -> 0
B67: 1999/2000 | C67: 0 | D67: 0 | E67: 0 | F67: 0 | G67: 0 | H67: 0 | I67: 0 | J67: 0 | K67: =SUM(C67:J68) -> 0
B68: 2000/2001 | C68: 0 | D68: 0 | E68: 0 | F68: 0 | G68: 0 | H68: 0 | I68: 0 | J68: 0 | K68: =SUM(C68:J69) -> 0
B69: 2001/2002 | C69: 0 | D69: 0 | E69: 0 | F69: 0 | G69: 0 | H69: 0 | I69: 0 | J69: 0 | K69: =SUM(C69:J70) -> 0
B70: 2002/2003 | C70: 0 | D70: 0 | E70: 0 | F70: 0 | G70: 0 | H70: 0 | I70: 0 | J70: 0 | K70: =SUM(C70:J71) -> 0
B71: 2003/2004 | C71: 0 | D71: 0 | E71: 0 | F71: 0 | G71: 0 | H71: 0 | I71: 0 | J71: 0 | K71: =SUM(C71:J72) -> 0
B72: 2004/2005 | C72: 0 | D72: 0 | E72: 0 | F72: 0 | G72: 0 | H72: 0 | I72: 0 | J72: 0 | K72: =SUM(C72:J73) -> 0
B73: 2005/2006 | C73: 0 | D73: 0 | E73: 0 | F73: 0 | G73: 0 | H73: 0 | I73: 0 | J73: 0 | K73: =SUM(C73:J74) -> 0
B74: 2006/2007 | C74: 0 | D74: 0 | E74: 0 | F74: 0 | G74: 0 | H74: 0 | I74: 0 | J74: 0 | K74: =SUM(C74:J74) -> 0
B75: 2007/2008 | C75: 329 | D75: 174 | E75: 183 | F75: 55 | G75: 115 | H75: 52 | I75: 7 | J75: 10 | K75: =SUM(C75:J75) -> 925
B76: 2008/2009 | C76: 5608 | D76: 2642 | E76: 3318 | F76: 593 | G76: 2302 | H76: 671 | I76: 140 | J76: 117 | K76: =SUM(C76:J76) -> 15391
B77: 2009/2010 | C77: 7297 | D77: 3613 | E77: 4379 | F77: 663 | G77: 2832 | H77: 775 | I77: 201 | J77: 99 | K77: =SUM(C77:J77) -> 19859
B78: 2010/2011 | C78: 9763 | D78: 4290 | E78: 5037 | F78: 725 | G78: 3388 | H78: 937 | I78: 255 | J78: 111 | K78: =SUM(C78:J78) -> 24506
B79: 2011/2012 | C79: 11820 | D79: 4883 | E79: 5719 | F79: 870 | G79: 4040 | H79: 1306 | I79: 321 | J79: 150 | K79: =SUM(C79:J79) -> 29109
B80: 2012/2013 | C80: 13520 | D80: 5323 | E80: 6854 | F80: 953 | G80: 4301 | H80: 1358 | I80: 440 | J80: 156 | K80: =SUM(C80:J80) -> 32905
B81: 2013/2014 | C81: 15425 | D81: 6224 | E81: 8327 | F81: 1172 | G81: 5026 | H81: 1388 | I81: 678 | J81: 219 | K81: =SUM(C81:J81) -> 38459
B82: 2014/2015 | C82: 15953 | D82: 6451 | E82: 9143 | F82: 1465 | G82: 5311 | H82: 1335 | I82: 826 | J82: 268 | K82: =SUM(C82:J82) -> 40752
B83: 2015/2016 | C83: 16285 | D83: 6528 | E83: 9941 | F83: 1455 | G83: 5225 | H83: 1302 | I83: 735 | J83: 270 | K83: =SUM(C83:J83) -> 41741
B84: 2016/2017 | C84: 15688 | D84: 6643 | E84: 9957 | F84: 1370 | G84: 5089 | H84: 1433 | I84: 767 | J84: 313 | K84: =SUM(C84:J84) -> 41260
B85: 2017/2018 | C85: 17045 | D85: 7480 | E85: 10729 | F85: 1458 | G85: 5044 | H85: 1520 | I85: 722 | J85: 465 | K85: =SUM(C85:J85) -> 44463
A89: 3440C | B89: 1992/1993 | C89: 0 | D89: 0 | E89: 0 | F89: 0 | G89: 0 | H89: 0 | I89: 0 | J89: 0 | K89: =SUM(C89:J90) -> 0
A90: 10mg | B90: 1993/1994 | C90: 0 | D90: 0 | E90: 0 | F90: 0 | G90: 0 | H90: 0 | I90: 0 | J90: 0 | K90: =SUM(C90:J91) -> 0
B91: 1994/1995 | C91: 0 | D91: 0 | E91: 0 | F91: 0 | G91: 0 | H91: 0 | I91: 0 | J91: 0 | K91: =SUM(C91:J92) -> 0
B92: 1995/1996 | C92: 0 | D92: 0 | E92: 0 | F92: 0 | G92: 0 | H92: 0 | I92: 0 | J92: 0 | K92: =SUM(C92:J93) -> 0
B93: 1996/1997 | C93: 0 | D93: 0 | E93: 0 | F93: 0 | G93: 0 | H93: 0 | I93: 0 | J93: 0 | K93: =SUM(C93:J94) -> 0
B94: 1997/1998 | C94: 0 | D94: 0 | E94: 0 | F94: 0 | G94: 0 | H94: 0 | I94: 0 | J94: 0 | K94: =SUM(C94:J95) -> 0
B95: 1998/1999 | C95: 0 | D95: 0 | E95: 0 | F95: 0 | G95: 0 | H95: 0 | I95: 0 | J95: 0 | K95: =SUM(C95:J96) -> 0
B96: 1999/2000 | C96: 0 | D96: 0 | E96: 0 | F96: 0 | G96: 0 | H96: 0 | I96: 0 | J96: 0 | K96: =SUM(C96:J97) -> 0
B97: 2000/2001 | C97: 0 | D97: 0 | E97: 0 | F97: 0 | G97: 0 | H97: 0 | I97: 0 | J97: 0 | K97: =SUM(C97:J98) -> 0
B98: 2001/2002 | C98: 0 | D98: 0 | E98: 0 | F98: 0 | G98: 0 | H98: 0 | I98: 0 | J98: 0 | K98: =SUM(C98:J99) -> 0
B99: 2002/2003 | C99: 0 | D99: 0 | E99: 0 | F99: 0 | G99: 0 | H99: 0 | I99: 0 | J99: 0 | K99: =SUM(C99:J100) -> 0
B100: 2003/2004 | C100: 0 | D100: 0 | E100: 0 | F100: 0 | G100: 0 | H100: 0 | I100: 0 | J100: 0 | K100: =SUM(C100:J101) -> 0
B101: 2004/2005 | C101: 0 | D101: 0 | E101: 0 | F101: 0 | G101: 0 | H101: 0 | I101: 0 | J101: 0 | K101: =SUM(C101:J102) -> 0
B102: 2005/2006 | C102: 0 | D102: 0 | E102: 0 | F102: 0 | G102: 0 | H102: 0 | I102: 0 | J102: 0 | K102: =SUM(C102:J103) -> 0
B103: 2006/2007 | C103: 0 | D103: 0 | E103: 0 | F103: 0 | G103: 0 | H103: 0 | I103: 0 | J103: 0 | K103: =SUM(C103:J103) -> 0
B104: 2007/2008 | C104: 0 | D104: 0 | E104: 0 | F104: 0 | G104: 0 | H104: 0 | I104: 0 | J104: 0 | K104: =SUM(C104:J104) -> 0
B105: 2008/2009 | C105: 0 | D105: 0 | E105: 0 | F105: 0 | G105: 0 | H105: 0 | I105: 0 | J105: 0 | K105: =SUM(C105:J105) -> 0
B106: 2009/2010 | C106: 0 | D106: 0 | E106: 0 | F106: 0 | G106: 0 | H106: 0 | I106: 0 | J106: 0 | K106: =SUM(C106:J106) -> 0
B107: 2010/2011 | C107: 907 | D107: 376 | E107: 342 | F107: 57 | G107: 200 | H107: 44 | I107: 35 | J107: 0 | K107: =SUM(C107:J107) -> 1961
B108: 2011/2012 | C108: 1754 | D108: 807 | E108: 733 | F108: 93 | G108: 499 | H108: 63 | I108: 68 | J108: 11 | K108: =SUM(C108:J108) -> 4028
B109: 2012/2013 | C109: 2045 | D109: 1113 | E109: 1240 | F109: 142 | G109: 643 | H109: 111 | I109: 78 | J109: 26 | K109: =SUM(C109:J109) -> 5398
...

Sheet Lisdexamfetamine
A1: Lisdexamfetamine | C1: NSW | D1: VIC | E1: QLD | F1: SA | G1: WA | H1: TAS | I1: ACT | J1: NT | K1: Australia
A2: 10486X | B2: 1992/1993 | C2: 0 | D2: 0 | E2: 0 | F2: 0 | G2: 0 | H2: 0 | I2: 0 | J2: 0 | K2: =SUM(C2:J2) -> 0
A3: 30mg | B3: 1993/1994 | C3: 0 | D3: 0 | E3: 0 | F3: 0 | G3: 0 | H3: 0 | I3: 0 | J3: 0 | K3: =SUM(C3:J3) -> 0
B4: 1994/1995 | C4: 0 | D4: 0 | E4: 0 | F4: 0 | G4: 0 | H4: 0 | I4: 0 | J4: 0 | K4: =SUM(C4:J4) -> 0
B5: 1995/1996 | C5: 0 | D5: 0 | E5: 0 | F5: 0 | G5: 0 | H5: 0 | I5: 0 | J5: 0 | K5: =SUM(C5:J5) -> 0
B6: 1996/1997 | C6: 0 | D6: 0 | E6: 0 | F6: 0 | G6: 0 | H6: 0 | I6: 0 | J6: 0 | K6: =SUM(C6:J6) -> 0
B7: 1997/1998 | C7: 0 | D7: 0 | E7: 0 | F7: 0 | G7: 0 | H7: 0 | I7: 0 | J7: 0 | K7: =SUM(C7:J7) -> 0
B8: 1998/1999 | C8: 0 | D8: 0 | E8: 0 | F8: 0 | G8: 0 | H8: 0 | I8: 0 | J8: 0 | K8: =SUM(C8:J8) -> 0
B9: 1999/2000 | C9: 0 | D9: 0 | E9: 0 | F9: 0 | G9: 0 | H9: 0 | I9: 0 | J9: 0 | K9: =SUM(C9:J9) -> 0
B10: 2000/2001 | C10: 0 | D10: 0 | E10: 0 | F10: 0 | G10: 0 | H10: 0 | I10: 0 | J10: 0 | K10: =SUM(C10:J10) -> 0
B11: 2001/2002 | C11: 0 | D11: 0 | E11: 0 | F11: 0 | G11: 0 | H11: 0 | I11: 0 | J11: 0 | K11: =SUM(C11:J11) -> 0
B12: 2002/2003 | C12: 0 | D12: 0 | E12: 0 | F12: 0 | G12: 0 | H12: 0 | I12: 0 | J12: 0 | K12: =SUM(C12:J12) -> 0
B13: 2003/2004 | C13: 0 | D13: 0 | E13: 0 | F13: 0 | G13: 0 | H13: 0 | I13: 0 | J13: 0 | K13: =SUM(C13:J13) -> 0
B14: 2004/2005 | C14: 0 | D14: 0 | E14: 0 | F14: 0 | G14: 0 | H14: 0 | I14: 0 | J14: 0 | K14: =SUM(C14:J14) -> 0
B15: 2005/2006 | C15: 0 | D15: 0 | E15: 0 | F15: 0 | G15: 0 | H15: 0 | I15: 0 | J15: 0 | K15: =SUM(C15:J15) -> 0
... B27: 2017/2018 | C27: 37807 | D27: 21168 | E27: 23185 | F27: 3205 | G27: 18771 | H27: 1921 | I27: 2504 | J27: 608 | K27: =SUM(C27:J27) -> 109169
A31: 10474G | B31: 1992/1993 | C31: 0 | D31: 0 | E31: 0 | F31: 0 | G31: 0 | H31: 0 | I31: 0 | J31: 0 | K31: =SUM(C31:J31) -> 0
A32: 50mg | B32: 1993/1994 | C32: 0 | D32: 0 | E32: 0 | F32: 0 | G32: 0 | H32: 0 | I32: 0 | J32: 0 | K32: =SUM(C32:J32) -> 0
B33: 1994/1995 | C33: 0 | D33: 0 | E33: 0 | F33: 0 | G33: 0 | H33: 0 | I33: 0 | J33: 0 | K33: =SUM(C33:J33) -> 0
B34: 1995/1996 | C34: 0 | D34: 0 | E34: 0 | F34: 0 | G34: 0 | H34: 0 | I34: 0 | J34: 0 | K34: =SUM(C34:J34) -> 0
B35: 1996/1997 | C35: 0 | D35: 0 | E35: 0 | F35: 0 | G35: 0 | H35: 0 | I35: 0 | J35: 0 | K35: =SUM(C35:J35) -> 0
B36: 1997/1998 | C36: 0 | D36: 0 | E36: 0 | F36: 0 | G36: 0 | H36: 0 | I36: 0 | J36: 0 | K36: =SUM(C36:J36) -> 0
B37: 1998/1999 | C37: 0 | D37: 0 | E37: 0 | F37: 0 | G37: 0 | H37: 0 | I37: 0 | J37: 0 | K37: =SUM(C37:J37) -> 0
B38: 1999/2000 | C38: 0 | D38: 0 | E38: 0 | F38: 0 | G38: 0 | H38: 0 | I38: 0 | J38: 0 | K38: =SUM(C38:J38) -> 0
B39: 2000/2001 | C39: 0 | D39: 0 | E39: 0 | F39: 0 | G39: 0 | H39: 0 | I39: 0 | J39: 0 | K39: =SUM(C39:J39) -> 0
B40: 2001/2002 | C40: 0 | D40: 0 | E40: 0 | F40: 0 | G40: 0 | H40: 0 | I40: 0 | J40: 0 | K40: =SUM(C40:J40) -> 0
B41: 2002/2003 | C41: 0 | D41: 0 | E41: 0 | F41: 0 | G41: 0 | H41: 0 | I41: 0 | J41: 0 | K41: =SUM(C41:J41) -> 0
B42: 2003/2004 | C42: 0 | D42: 0 | E42: 0 | F42: 0 | G42: 0 | H42: 0 | I42: 0 | J42: 0 | K42: =SUM(C42:J42) -> 0
B43: 2004/2005 | C43: 0 | D43: 0 | E43: 0 | F43: 0 | G43: 0 | H43: 0 | I43: 0 | J43: 0 | K43: =SUM(C43:J43) -> 0
B44: 2005/2006 | C44: 0 | D44: 0 | E44: 0 | F44: 0 | G44: 0 | H44: 0 | I44: 0 | J44: 0 | K44: =SUM(C44:J44) -> 0
... B56: 2017/2018 | C56: 22055 | D56: 12185 | E56: 12881 | F56: 1570 | G56: 10626 | H56: 1239 | I56: 1534 | J56: 272 | K56: =SUM(C56:J56) -> 62362
A60: 10492F | B60: 1992/1993 | C60: 0 | D60: 0 | E60: 0 | F60: 0 | G60: 0 | H60: 0 | I60: 0 | J60: 0 | K60: =SUM(C60:J60) -> 0
A61: 70mg | B61: 1993/1994 | C61: 0 | D61: 0 | E61: 0 | F61: 0 | G61: 0 | H61: 0 | I61: 0 | J61: 0 | K61: =SUM(C61:J61) -> 0
B62: 1994/1995 | C62: 0 | D62: 0 | E62: 0 | F62: 0 | G62: 0 | H62: 0 | I62: 0 | J62: 0 | K62: =SUM(C62:J62) -> 0
B63: 1995/1996 | C63: 0 | D63: 0 | E63: 0 | F63: 0 | G63: 0 | H63: 0 | I63: 0 | J63: 0 | K63: =SUM(C63:J63) -> 0
B64: 1996/1997 | C64: 0 | D64: 0 | E64: 0 | F64: 0 | G64: 0 | H64: 0 | I64: 0 | J64: 0 | K64: =SUM(C64:J64) -> 0
B65: 1997/1998 | C65: 0 | D65: 0 | E65: 0 | F65: 0 | G65: 0 | H65: 0 | I65: 0 | J65: 0 | K65: =SUM(C65:J65) -> 0
B66: 1998/1999 | C66: 0 | D66: 0 | E66: 0 | F66: 0 | G66: 0 | H66: 0 | I66: 0 | J66: 0 | K66: =SUM(C66:J66) -> 0
B67: 1999/2000 | C67: 0 | D67: 0 | E67: 0 | F67: 0 | G67: 0 | H67: 0 | I67: 0 | J67: 0 | K67: =SUM(C67:J67) -> 0
B68: 2000/2001 | C68: 0 | D68: 0 | E68: 0 | F68: 0 | G68: 0 | H68: 0 | I68: 0 | J68: 0 | K68: =SUM(C68:J68) -> 0
B69: 2001/2002 | C69: 0 | D69: 0 | E69: 0 | F69: 0 | G69: 0 | H69: 0 | I69: 0 | J69: 0 | K69: =SUM(C69:J69) -> 0
B70: 2002/2003 | C70: 0 | D70: 0 | E70: 0 | F70: 0 | G70: 0 | H70: 0 | I70: 0 | J70: 0 | K70: =SUM(C70:J70) -> 0
B71: 2003/2004 | C71: 0 | D71: 0 | E71: 0 | F71: 0 | G71: 0 | H71: 0 | I71: 0 | J71: 0 | K71: =SUM(C71:J71) -> 0
B72: 2004/2005 | C72: 0 | D72: 0 | E72: 0 | F72: 0 | G72: 0 | H72: 0 | I72: 0 | J72: 0 | K72: =SUM(C72:J72) -> 0
B73: 2005/2006 | C73: 0 | D73: 0 | E73: 0 | F73: 0 | G73: 0 | H73: 0 | I73: 0 | J73: 0 | K73: =SUM(C73:J73) -> 0
... B85: 2017/2018 | C85: 10661 | D85: 7495 | E85: 6161 | F85: 516 | G85: 4754 | H85: 926 | I85: 433 | J85: 259 | K85: =SUM(C85:J85) -> 31205
C89: NSW | D89: VIC | E89: QLD | F89: SA | G89: WA | H89: TAS | I89: ACT | J89: NT | K89: Australia
A90: Summary | B90: 1992/1993 | C90: 0 | D90: 0 | E90: 0 | F90: 0 | G90: 0 | H90: 0 | I90: 0 | J90: 0 | K90: =SUM(C90:J90) -> 0
A91: Lisdexamfetamine | B91: 1993/1994 | C91: 0 | D91: 0 | E91: 0 | F91: 0 | G91: 0 | H91: 0 | I91: 0 | J91: 0 | K91: =SUM(C91:J91) -> 0
B92: 1994/1995 | C92: 0 | D92: 0 | E92: 0 | F92: 0 | G92: 0 | H92: 0 | I92: 0 | J92: 0 | K92: =SUM(C92:J92) -> 0
B93: 1995/1996 | C93: 0 | D93: 0 | E93: 0 | F93: 0 | G93: 0 | H93: 0 | I93: 0 | J93: 0 | K93: =SUM(C93:J93) -> 0
B94: 1996/1997 | C94: 0 | D94: 0 | E94: 0 | F94: 0 | G94: 0 | H94: 0 | I94: 0 | J94: 0 | K94: =SUM(C94:J94) -> 0
B95: 1997/1998 | C95: 0 | D95: 0 | E95: 0 | F95: 0 | G95: 0 | H95: 0 | I95: 0 | J95: 0 | K95: =SUM(C95:J95) -> 0
B96: 1998/1999 | C96: 0 | D96: 0 | E96: 0 | F96: 0 | G96: 0 | H96: 0 | I96: 0 | J96: 0 | K96: =SUM(C96:J96) -> 0
B97: 1999/2000 | C97: 0 | D97: 0 | E97: 0 | F97: 0 | G97: 0 | H97: 0 | I97: 0 | J97: 0 | K97: =SUM(C97:J97) -> 0
B98: 2000/2001 | C98: 0 | D98: 0 | E98: 0 | F98: 0 | G98: 0 | H98: 0 | I98: 0 | J98: 0 | K98: =SUM(C98:J98) -> 0
B99: 2001/2002 | C99: 0 | D99: 0 | E99: 0 | F99: 0 | G99: 0 | H99: 0 | I99: 0 | J99: 0 | K99: =SUM(C99:J99) -> 0
B100: 2002/2003 | C100: 0 | D100: 0 | E100: 0 | F100: 0 | G100: 0 | H100: 0 | I100: 0 | J100: 0 | K100: =SUM(C100:J100) -> 0
B101: 2003/2004 | C101: 0 | D101: 0 | E101: 0 | F101: 0 | G101: 0 | H101: 0 | I101: 0 | J101: 0 | K101: =SUM(C101:J101) -> 0
B102: 2004/2005 | C102: 0 | D102: 0 | E102: 0 | F102: 0 | G102: 0 | H102: 0 | I102: 0 | J102: 0 | K102: =SUM(C102:J102) -> 0
B103: 2005/2006 | C103: 0 | D103: 0 | E103: 0 | F103: 0 | G103: 0 | H103: 0 | I103: 0 | J103: 0 | K103: =SUM(C103:J103) -> 0
... B112: 2014/2015 | C112: 0 | D112: 0 | E112: 0 | F112: 0 | G112: 0 | H112: 0 | I112: 0 | J112: 0 | K112: =SUM(C112:J112) -> 0
B113: 2015/2016 | C113: =SUM(C25+C54+C83) -> 19130 | D113: =SUM(D25+D54+D83) -> 14483 | E113: =SUM(E25+E54+E83) -> 11363 | F113: =SUM(F25+F54+F83) -> 1254 | G113: =SUM(G25+G54+G83) -> 9552 | H113: =SUM(H25+H54+H83) -> 1259 | I113: =SUM(I25+I54+I83) -> 1112 | J113: =SUM(J25+J54+J83) -> 267 | K113: =SUM(C113:J113) -> 58420
B114: 2016/2017 | C114: =SUM(C26+C55+C84) -> 47536 | D114: =SUM(D26+D55+D84) -> 30455 | E114: =SUM(E26+E55+E84) -> 28841 | F114: =SUM(F26+F55+F84) -> 3442 | G114: =SUM(G26+G55+G84) -> 24642 | H114: =SUM(H26+H55+H84) -> 2959 | I114: =SUM(I26+I55+I84) -> 2936 | J114: =SUM(J26+J55+J84) -> 502 | K114: =SUM(C114:J114) -> 141313
B115: 2017/2018 | C115: =SUM(C27+C56+C85) -> 70523 | D115: =SUM(D27+D56+D85) -> 40848 | E115: =SUM(E27+E56+E85) -> 42227 | F115: =SUM(F27+F56+F85) -> 5291 | G115: =SUM(G27+G56+G85) -> 34151 | H115: =SUM(H27+H56+H85) -> 4086 | I115: =SUM(I27+I56+I85) -> 4471 | J115: =SUM(J27+J56+J85) -> 1139 | K115: =SUM(C115:J115) -> 202736

Sheet Sheet4

Sheet Sheet5

Sheet Sheet6
