Workbook

Sheet ADHD PBS drugs since 1 July1992
A1: Australia - all ADHD PBS drugs - number of yearly prescriptions since 1 July 1992
A3: Dexamfetamine (PBS Item number 1165H) has been on the PBS since 1992
A4: Attenta - Ritalin 10 (PBS item number 8839F) - added to the PBS in August 2005
A5: Concerta (PBS item numbers 2387P, 2172H, 2388Q, 2432B) - added to the PBS in April 2007
A6: Strattera (PBS item numbers 9092M, 9093N, 9094P, 9095Q, 9096R) - added to the PBS in July 2007; PBS items 9289X and 9290Y added in Dec 2008
A7: Ritalin LA (PBS Items 2276T, 2280B, 2283E) - added to the PBS in April 2008; PBS item 3440C added in August 2010
A8: Lisdexamfetamine (PBS Item numbers 10486X, 10474G, 10492F) added to the PBS in September 2015
A10: Source: www.medicareaustralia.gov.au
A11: Disclaimer: Information on this spreadsheet is collated by CCHR National Office. Before relying on this material, users should independently verify its accuracy and relevence for their purposes
A13: Financial Year | B13: NSW | C13: Financial Year | D13: VIC | E13: Financial Year | F13: QLD | G13: Financial Year | H13: SA | I13: Financial Year | J13: WA | K13: Financial Year | L13: TAS | M13: Financial Year | N13: ACT | O13: Financial Year | P13: NT | Q13: Financial Year | R13: Australia
A14: 1992/1993 | B14: 6253 | C14: 1992/1993 | D14: 1590 | E14: 1992/1993 | F14: 2555 | G14: 1992/1993 | H14: 2250 | I14: 1992/1993 | J14: 3450 | K14: 1992/1993 | L14: 191 | M14: 1992/1993 | N14: 190 | O14: 1992/1993 | P14: 80 | Q14: 1992/1993 | R14: =SUM(B14+D14+F14+H14+J14+L14+N14+P14) -> 16559
A15: 1993/1994 | B15: 12402 | C15: 1993/1994 | D15: 3379 | E15: 1993/1994 | F15: 4606 | G15: 1993/1994 | H15: 3940 | I15: 1993/1994 | J15: 7879 | K15: 1993/1994 | L15: 435 | M15: 1993/1994 | N15: 460 | O15: 1993/1994 | P15: 137 | Q15: 1993/1994 | R15: =SUM(B15+D15+F15+H15+J15+L15+N15+P15) -> 33238
A16: 1994/1995 | B16: 23340 | C16: 1994/1995 | D16: 7238 | E16: 1994/1995 | F16: 7864 | G16: 1994/1995 | H16: 6502 | I16: 1994/1995 | J16: 14772 | K16: 1994/1995 | L16: 1243 | M16: 1994/1995 | N16: 973 | O16: 1994/1995 | P16: 405 | Q16: 1994/1995 | R16: =SUM(B16+D16+F16+H16+J16+L16+N16+P16) -> 62337
A17: 1995/1996 | B17: 34377 | C17: 1995/1996 | D17: 12497 | E17: 1995/1996 | F17: 12216 | G17: 1995/1996 | H17: 9871 | I17: 1995/1996 | J17: 23105 | K17: 1995/1996 | L17: 2377 | M17: 1995/1996 | N17: 1478 | O17: 1995/1996 | P17: 718 | Q17: 1995/1996 | R17: =SUM(B17+D17+F17+H17+J17+L17+N17+P17) -> 96639
A18: 1996/1997 | B18: 43392 | C18: 1996/1997 | D18: 16988 | E18: 1996/1997 | F18: 17558 | G18: 1996/1997 | H18: 14129 | I18: 1996/1997 | J18: 33619 | K18: 1996/1997 | L18: 3273 | M18: 1996/1997 | N18: 1772 | O18: 1996/1997 | P18: 629 | Q18: 1996/1997 | R18: =SUM(B18+D18+F18+H18+J18+L18+N18+P18) -> 131360
A19: 1997/1998 | B19: 49478 | C19: 1997/1998 | D19: 22367 | E19: 1997/1998 | F19: 21823 | G19: 1997/1998 | H19: 17031 | I19: 1997/1998 | J19: 44410 | K19: 1997/1998 | L19: 4857 | M19: 1997/1998 | N19: 1952 | O19: 1997/1998 | P19: 713 | Q19: 1997/1998 | R19: =SUM(B19+D19+F19+H19+J19+L19+N19+P19) -> 162631
A20: 1998/1999 | B20: 56479 | C20: 1998/1999 | D20: 27896 | E20: 1998/1999 | F20: 24746 | G20: 1998/1999 | H20: 19320 | I20: 1998/1999 | J20: 54841 | K20: 1998/1999 | L20: 6009 | M20: 1998/1999 | N20: 2163 | O20: 1998/1999 | P20: 706 | Q20: 1998/1999 | R20: =SUM(B20+D20+F20+H20+J20+L20+N20+P20) -> 192160
A21: 1999/2000 | B21: 61088 | C21: 1999/2000 | D21: 32029 | E21: 1999/2000 | F21: 29443 | G21: 1999/2000 | H21: 19253 | I21: 1999/2000 | J21: 64701 | K21: 1999/2000 | L21: 7661 | M21: 1999/2000 | N21: 2632 | O21: 1999/2000 | P21: 866 | Q21: 1999/2000 | R21: =SUM(B21+D21+F21+H21+J21+L21+N21+P21) -> 217673
A22: 2000/2001 | B22: 62674 | C22: 2000/2001 | D22: 33911 | E22: 2000/2001 | F22: 33233 | G22: 2000/2001 | H22: 18571 | I22: 2000/2001 | J22: 73199 | K22: 2000/2001 | L22: 8808 | M22: 2000/2001 | N22: 2994 | O22: 2000/2001 | P22: 775 | Q22: 2000/2001 | R22: =SUM(B22+D22+F22+H22+J22+L22+N22+P22) -> 234165
A23: 2001/2002 | B23: 62017 | C23: 2001/2002 | D23: 32908 | E23: 2001/2002 | F23: 34613 | G23: 2001/2002 | H23: 18588 | I23: 2001/2002 | J23: 77809 | K23: 2001/2002 | L23: 9178 | M23: 2001/2002 | N23: 2971 | O23: 2001/2002 | P23: 730 | Q23: 2001/2002 | R23: =SUM(B23+D23+F23+H23+J23+L23+N23+P23) -> 238814
A24: 2002/2003 | B24: 62526 | C24: 2002/2003 | D24: 32984 | E24: 2002/2003 | F24: 36638 | G24: 2002/2003 | H24: 19667 | I24: 2002/2003 | J24: 85926 | K24: 2002/2003 | L24: 9129 | M24: 2002/2003 | N24: 3236 | O24: 2002/2003 | P24: 745 | Q24: 2002/2003 | R24: =SUM(B24+D24+F24+H24+J24+L24+N24+P24) -> 250851
A25: 2003/2004 | B25: 61568 | C25: 2003/2004 | D25: 31954 | E25: 2003/2004 | F25: 36190 | G25: 2003/2004 | H25: 20026 | I25: 2003/2004 | J25: 86187 | K25: 2003/2004 | L25: 8841 | M25: 2003/2004 | N25: 3204 | O25: 2003/2004 | P25: 736 | Q25: 2003/2004 | R25: =SUM(B25+D25+F25+H25+J25+L25+N25+P25) -> 248706
... A37: 2015/2016 | B37: 309549 | C37: 2015/2016 | D37: 148564 | E37: 2015/2016 | F37: 204940 | G37: 2015/2016 | H37: 32661 | I37: 2015/2016 | J37: 124901 | K37: 2015/2016 | L37: 20024 | M37: 2015/2016 | N37: 14964 | O37: 2015/2016 | P37: 5721 | Q37: 2015/2016 | R37: =SUM(B37+D37+F37+H37+J37+L37+N37+P37) -> 861324
A38: 2016/2017 | B38: =SUM(dexamfetamine!C26+'Ritalin 10'!C26+Concerta!C135+'Strattera '!C231+'Ritalin LA'!C143+Lisdexamfetamine!C114) -> 329514 | C38: 2016/2017 | D38: =SUM(dexamfetamine!D26+'Ritalin 10'!D26+Concerta!D135+'Strattera '!D231+'Ritalin LA'!D143+Lisdexamfetamine!D114) -> 169051 | E38: 2016/2017 | F38: =SUM(dexamfetamine!E26+'Ritalin 10'!E26+Concerta!E135+'Strattera '!E231+'Ritalin LA'!E143+Lisdexamfetamine!E114) -> 223546 | G38: 2016/2017 | H38: =dexamfetamine!F26+'Ritalin 10'!F26+Concerta!F135+'Strattera '!F231+'Ritalin LA'!F143+Lisdexamfetamine!F114 -> 34894 | I38: 2016/2017 | J38: =SUM(dexamfetamine!G26+'Ritalin 10'!G26+Concerta!G135+'Strattera '!G231+'Ritalin LA'!G143+Lisdexamfetamine!G114) -> 141254 | K38: 2016/2017 | L38: =SUM(dexamfetamine!H26+'Ritalin 10'!H26+Concerta!H135+'Strattera '!H231+'Ritalin LA'!H143+Lisdexamfetamine!H114) -> 21910 | M38: 2016/2017 | N38: =SUM(dexamfetamine!I26+'Ritalin 10'!I26+Concerta!I135+'Strattera '!I231+'Ritalin LA'!I143+Lisdexamfetamine!I114) -> 16860 | O38: 2016/2017 | P38: =SUM(dexamfetamine!J26+'Ritalin 10'!J26+Concerta!J135+'Strattera '!J231+'Ritalin LA'!J143+Lisdexamfetamine!J114) -> 6751 | Q38: 2016/2017 | R38: =SUM(B38+D38+F38+H38+J38+L38+N38+P38) -> 943780
A39: 2017/2018 | B39: =SUM(dexamfetamine!C27+'Ritalin 10'!C27+Concerta!C136+'Strattera '!C232+'Ritalin LA'!C144+Lisdexamfetamine!C115) -> 365498 | C39: 2017/2018 | D39: =SUM(dexamfetamine!D27+'Ritalin 10'!D27+Concerta!D136+'Strattera '!D232+'Ritalin LA'!D144+Lisdexamfetamine!D115) -> 189656 | E39: 2017/2018 | F39: =SUM(dexamfetamine!E27+'Ritalin 10'!E27+Concerta!E136+'Strattera '!E232+'Ritalin LA'!E144+Lisdexamfetamine!E115) -> 242777 | G39: 2017/2018 | H39: =dexamfetamine!F27+'Ritalin 10'!F27+Concerta!F136+'Strattera '!F232+'Ritalin LA'!F144+Lisdexamfetamine!F115 -> 38048 | I39: 2017/2018 | J39: =SUM(dexamfetamine!G27+'Ritalin 10'!G27+Concerta!G136+'Strattera '!G232+'Ritalin LA'!G144+Lisdexamfetamine!G115) -> 151825 | K39: 2017/2018 | L39: =SUM(dexamfetamine!H27+'Ritalin 10'!H27+Concerta!H136+'Strattera '!H232+'Ritalin LA'!H144+Lisdexamfetamine!H115) -> 23490 | M39: 2017/2018 | N39: =SUM(dexamfetamine!I27+'Ritalin 10'!I27+Concerta!I136+'Strattera '!I232+'Ritalin LA'!I144+Lisdexamfetamine!I115) -> 19397 | O39: 2017/2018 | P39: =SUM(dexamfetamine!J27+'Ritalin 10'!J27+Concerta!J136+'Strattera '!J232+'Ritalin LA'!J144+Lisdexamfetamine!J115) -> 8724 | Q39: 2017/2018 | R39: =SUM(B39+D39+F39+H39+J39+L39+N39+P39) -> 1039415

Sheet Comparison state stats
B1: NSW | C1: VIC | D1: QLD | E1: SA | F1: WA | G1: TAS | H1: ACT | I1: NT | J1: Australia
A2: 1992/1993 | B2: 6253 | C2: 1590 | D2: 2555 | E2: 2250 | F2: 3450 | G2: 191 | H2: 190 | I2: 80 | J2: =SUM(B2:I2) -> 16559
A3: 1993/1994 | B3: 12402 | C3: 3379 | D3: 4606 | E3: 3940 | F3: 7879 | G3: 435 | H3: 460 | I3: 137 | J3: =SUM(B3:I3) -> 33238
A4: 1994/1995 | B4: 23340 | C4: 7238 | D4: 7864 | E4: 6502 | F4: 14772 | G4: 1243 | H4: 973 | I4: 405 | J4: =SUM(B4:I4) -> 62337
A5: 1995/1996 | B5: 34377 | C5: 12497 | D5: 12216 | E5: 9871 | F5: 23105 | G5: 2377 | H5: 1478 | I5: 718 | J5: =SUM(B5:I5) -> 96639
A6: 1996/1997 | B6: 43392 | C6: 16988 | D6: 17558 | E6: 14129 | F6: 33619 | G6: 3273 | H6: 1772 | I6: 629 | J6: =SUM(B6:I6) -> 131360
A7: 1997/1998 | B7: 49478 | C7: 22367 | D7: 21823 | E7: 17031 | F7: 44410 | G7: 4857 | H7: 1952 | I7: 713 | J7: =SUM(B7:I7) -> 162631
A8: 1998/1999 | B8: 56479 | C8: 27896 | D8: 24746 | E8: 19320 | F8: 54841 | G8: 6009 | H8: 2163 | I8: 706 | J8: =SUM(B8:I8) -> 192160
A9: 1999/2000 | B9: 61088 | C9: 32029 | D9: 29443 | E9: 19253 | F9: 64701 | G9: 7661 | H9: 2632 | I9: 866 | J9: =SUM(B9:I9) -> 217673
A10: 2000/2001 | B10: 62674 | C10: 33911 | D10: 33233 | E10: 18571 | F10: 73199 | G10: 8808 | H10: 2994 | I10: 775 | J10: =SUM(B10:I10) -> 234165
A11: 2001/2002 | B11: 62017 | C11: 32908 | D11: 34613 | E11: 18588 | F11: 77809 | G11: 9178 | H11: 2971 | I11: 730 | J11: =SUM(B11:I11) -> 238814
A12: 2002/2003 | B12: 62526 | C12: 32984 | D12: 36638 | E12: 19667 | F12: 85926 | G12: 9129 | H12: 3236 | I12: 745 | J12: =SUM(B12:I12) -> 250851
A13: 2003/2004 | B13: 61568 | C13: 31954 | D13: 36190 | E13: 20026 | F13: 86187 | G13: 8841 | H13: 3204 | I13: 736 | J13: =SUM(B13:I13) -> 248706
... A26: 2016/2017 | B26: 329514 | C26: 169051 | D26: 223546 | E26: 34894 | F26: 141254 | G26: 21910 | H26: 16860 | I26: 6751 | J26: =SUM(B26:I26) -> 943780
A27: 2017/2018 | B27: ='ADHD PBS drugs since 1 July1992'!B39 -> 365498 | C27: ='ADHD PBS drugs since 1 July1992'!D39 -> 189656 | D27: ='ADHD PBS drugs since 1 July1992'!F39 -> 242777 | E27: ='ADHD PBS drugs since 1 July1992'!H39 -> 38048 | F27: ='ADHD PBS drugs since 1 July1992'!J39 -> 151825 | G27: ='ADHD PBS drugs since 1 July1992'!L39 -> 23490 | H27: ='ADHD PBS drugs since 1 July1992'!N39 -> 19397 | I27: ='ADHD PBS drugs since 1 July1992'!P39 -> 8724 | J27: =SUM(B27:I27) -> 1039415
A28: Total | B28: =SUM(B2:B27) -> 3438814 | C28: =SUM(C2:C27) -> 1647389 | D28: =SUM(D2:D27) -> 2059934 | E28: =SUM(E2:E27) -> 534219 | F28: =SUM(F2:F27) -> 1879003 | G28: =SUM(G2:G27) -> 288139 | H28: =SUM(H2:H27) -> 167909 | I28: =SUM(I2:I27) -> 57781 | J28: =SUM(J2:J27) -> 10073188

Sheet dexamfetamine
C1: NSW | D1: VIC | E1: QLD | F1: SA | G1: WA | H1: TAS | I1: ACT | J1: NT | K1: Australia
A2: 1165H | B2: 1992/1993 | C2: 6253 | D2: 1590 | E2: 2555 | F2: 2250 | G2: 3450 | H2: 191 | I2: 190 | J2: 80 | K2: =SUM(C2:J2) -> 16559
B3: 1993/1994 | C3: 12402 | D3: 3379 | E3: 4606 | F3: 3940 | G3: 7879 | H3: 435 | I3: 460 | J3: 137 | K3: =SUM(C3:J3) -> 33238
B4: 1994/1995 | C4: 23340 | D4: 7238 | E4: 7864 | F4: 6502 | G4: 14772 | H4: 1243 | I4: 973 | J4: 405 | K4: =SUM(C4:J4) -> 62337
B5: 1995/1996 | C5: 34377 | D5: 12497 | E5: 12216 | F5: 9871 | G5: 23105 | H5: 2377 | I5: 1478 | J5: 718 | K5: =SUM(C5:J5) -> 96639
B6: 1996/1997 | C6: 43392 | D6: 16988 | E6: 17558 | F6: 14129 | G6: 33619 | H6: 3273 | I6: 1772 | J6: 629 | K6: =SUM(C6:J6) -> 131360
B7: 1997/1998 | C7: 49478 | D7: 22367 | E7: 21823 | F7: 17031 | G7: 44410 | H7: 4857 | I7: 1952 | J7: 713 | K7: =SUM(C7:J7) -> 162631
B8: 1998/1999 | C8: 56479 | D8: 27896 | E8: 24746 | F8: 19320 | G8: 54841 | H8: 6009 | I8: 2163 | J8: 706 | K8: =SUM(C8:J8) -> 192160
B9: 1999/2000 | C9: 61088 | D9: 32029 | E9: 29443 | F9: 19253 | G9: 64701 | H9: 7661 | I9: 2632 | J9: 866 | K9: =SUM(C9:J9) -> 217673
B10: 2000/2001 | C10: 62674 | D10: 33911 | E10: 33233 | F10: 18571 | G10: 73199 | H10: 8808 | I10: 2994 | J10: 775 | K10: =SUM(C10:J10) -> 234165
B11: 2001/2002 | C11: 62017 | D11: 32908 | E11: 34613 | F11: 18588 | G11: 77809 | H11: 9178 | I11: 2971 | J11: 730 | K11: =SUM(C11:J11) -> 238814
B12: 2002/2003 | C12: 62526 | D12: 32984 | E12: 36638 | F12: 19667 | G12: 85926 | H12: 9129 | I12: 3236 | J12: 745 | K12: =SUM(C12:J12) -> 250851
B13: 2003/2004 | C13: 61568 | D13: 31954 | E13: 36190 | F13: 20026 | G13: 86187 | H13: 8841 | I13: 3204 | J13: 736 | K13: =SUM(C13:J13) -> 248706
B14: 2004/2005 | C14: 57681 | D14: 30512 | E14: 36614 | F14: 19495 | G14: 76317 | H14: 8522 | I14: 3073 | J14: 693 | K14: =SUM(C14:J14) -> 232907
... B27: 2017/2018 | C27: 31961 | D27: 25118 | E27: 30113 | F27: 10049 | G27: 56188 | H27: 2133 | I27: 1997 | J27: 571 | K27: =SUM(C27:J27) -> 158130

Sheet Ritalin 10
C1: NSW | D1: VIC | E1: QLD | F1: SA | G1: WA | H1: TAS | I1: ACT | J1: NT | K1: Australia
A2: 8839F | B2: 1992/1993 | C2: 0 | D2: 0 | E2: 0 | F2: 0 | G2: 0 | H2: 0 | I2: 0 | J2: 0 | K2: =SUM(C2:J2) -> 0
B3: 1993/1994 | C3: 0 | D3: 0 | E3: 0 | F3: 0 | G3: 0 | H3: 0 | I3: 0 | J3: 0 | K3: =SUM(C3:J3) -> 0
B4: 1994/1995 | C4: 0 | D4: 0 | E4: 0 | F4: 0 | G4: 0 | H4: 0 | I4: 0 | J4: 0 | K4: =SUM(C4:J4) -> 0
B5: 1995/1996 | C5: 0 | D5: 0 | E5: 0 | F5: 0 | G5: 0 | H5: 0 | I5: 0 | J5: 0 | K5: =SUM(C5:J5) -> 0
B6: 1996/1997 | C6: 0 | D6: 0 | E6: 0 | F6: 0 | G6: 0 | H6: 0 | I6: 0 | J6: 0 | K6: =SUM(C6:J6) -> 0
B7: 1997/1998 | C7: 0 | D7: 0 | E7: 0 | F7: 0 | G7: 0 | H7: 0 | I7: 0 | J7: 0 | K7: =SUM(C7:J7) -> 0
B8: 1998/1999 | C8: 0 | D8: 0 | E8: 0 | F8: 0 | G8: 0 | H8: 0 | I8: 0 | J8: 0 | K8: =SUM(C8:J8) -> 0
B9: 1999/2000 | C9: 0 | D9: 0 | E9: 0 | F9: 0 | G9: 0 | H9: 0 | I9: 0 | J9: 0 | K9: =SUM(C9:J9) -> 0
B10: 2000/2001 | C10: 0 | D10: 0 | E10: 0 | F10: 0 | G10: 0 | H10: 0 | I10: 0 | J10: 0 | K10: =SUM(C10:J10) -> 0
B11: 2001/2002 | C11: 0 | D11: 0 | E11: 0 | F11: 0 | G11: 0 | H11: 0 | I11: 0 | J11: 0 | K11: =SUM(C11:J11) -> 0
B12: 2002/2003 | C12: 0 | D12: 0 | E12: 0 | F12: 0 | G12: 0 | H12: 0 | I12: 0 | J12: 0 | K12: =SUM(C12:J12) -> 0
B13: 2003/2004 | C13: 0 | D13: 0 | E13: 0 | F13: 0 | G13: 0 | H13: 0 | I13: 0 | J13: 0 | K13: =SUM(C13:J13) -> 0
B14: 2004/2005 | C14: 0 | D14: 0 | E14: 0 | F14: 0 | G14: 0 | H14: 0 | I14: 0 | J14: 0 | K14: =SUM(C14:J14) -> 0
... B27: 2017/2018 | C27: 43417 | D27: 21345 | E27: 30747 | F27: 5907 | G27: 7858 | H27: 3538 | I27: 887 | J27: 1241 | K27: =SUM(C27:J27) -> 114940

Sheet Concerta
A1: Concerta | C1: NSW | D1: VIC | E1: QLD | F1: SA | G1: WA | H1: TAS | I1: ACT | J1: NT | K1: Australia
A2: 2387P | B2: 1992/1993 | C2: 0 | D2: 0 | E2: 0 | F2: 0 | G2: 0 | H2: 0 | I2: 0 | J2: 0 | K2: =SUM(C2:J2) -> 0
A3: 18mg | B3: 1993/1994 | C3: 0 | D3: 0 | E3: 0 | F3: 0 | G3: 0 | H3: 0 | I3: 0 | J3: 0 | K3: =SUM(C3:J3) -> 0
B4: 1994/1995 | C4: 0 | D4: 0 | E4: 0 | F4: 0 | G4: 0 | H4: 0 | I4: 0 | J4: 0 | K4: =SUM(C4:J4) -> 0
B5: 1995/1996 | C5: 0 | D5: 0 | E5: 0 | F5: 0 | G5: 0 | H5: 0 | I5: 0 | J5: 0 | K5: =SUM(C5:J5) -> 0
B6: 1996/1997 | C6: 0 | D6: 0 | E6: 0 | F6: 0 | G6: 0 | H6: 0 | I6: 0 | J6: 0 | K6: =SUM(C6:J6) -> 0
B7: 1997/1998 | C7: 0 | D7: 0 | E7: 0 | F7: 0 | G7: 0 | H7: 0 | I7: 0 | J7: 0 | K7: =SUM(C7:J7) -> 0
B8: 1998/1999 | C8: 0 | D8: 0 | E8: 0 | F8: 0 | G8: 0 | H8: 0 | I8: 0 | J8: 0 | K8: =SUM(C8:J8) -> 0
B9: 1999/2000 | C9: 0 | D9: 0 | E9: 0 | F9: 0 | G9: 0 | H9: 0 | I9: 0 | J9: 0 | K9: =SUM(C9:J9) -> 0
B10: 2000/2001 | C10: 0 | D10: 0 | E10: 0 | F10: 0 | G10: 0 | H10: 0 | I10: 0 | J10: 0 | K10: =SUM(C10:J10) -> 0
B11: 2001/2002 | C11: 0 | D11: 0 | E11: 0 | F11: 0 | G11: 0 | H11: 0 | I11: 0 | J11: 0 | K11: =SUM(C11:J11) -> 0
B12: 2002/2003 | C12: 0 | D12: 0 | E12: 0 | F12: 0 | G12: 0 | H12: 0 | I12: 0 | J12: 0 | K12: =SUM(C12:J12) -> 0
B13: 2003/2004 | C13: 0 | D13: 0 | E13: 0 | F13: 0 | G13: 0 | H13: 0 | I13: 0 | J13: 0 | K13: =SUM(C13:J13) -> 0
B14: 2004/2005 | C14: 0 | D14: 0 | E14: 0 | F14: 0 | G14: 0 | H14: 0 | I14: 0 | J14: 0 | K14: =SUM(C14:J14) -> 0
B15: 2005/2006 | C15: 0 | D15: 0 | E15: 0 | F15: 0 | G15: 0 | H15: 0 | I15: 0 | J15: 0 | K15: =SUM(C15:J15) -> 0
... B27: 2017/2018 | C27: 14207 | D27: 6145 | E27: 9470 | F27: 970 | G27: 3044 | H27: 555 | I27: 815 | J27: 551 | K27: =SUM(C27:J27) -> 35757
A29: 2172H | B29: 1992/1993 | C29: 0 | D29: 0 | E29: 0 | F29: 0 | G29: 0 | H29: 0 | I29: 0 | J29: 0 | K29: =SUM(C29:J29) -> 0
A30: 27mg | B30: 1993/1994 | C30: 0 | D30: 0 | E30: 0 | F30: 0 | G30: 0 | H30: 0 | I30: 0 | J30: 0 | K30: =SUM(C30:J30) -> 0
B31: 1994/1995 | C31: 0 | D31: 0 | E31: 0 | F31: 0 | G31: 0 | H31: 0 | I31: 0 | J31: 0 | K31: =SUM(C31:J31) -> 0
B32: 1995/1996 | C32: 0 | D32: 0 | E32: 0 | F32: 0 | G32: 0 | H32: 0 | I32: 0 | J32: 0 | K32: =SUM(C32:J32) -> 0
B33: 1996/1997 | C33: 0 | D33: 0 | E33: 0 | F33: 0 | G33: 0 | H33: 0 | I33: 0 | J33: 0 | K33: =SUM(C33:J33) -> 0
B34: 1997/1998 | C34: 0 | D34: 0 | E34: 0 | F34: 0 | G34: 0 | H34: 0 | I34: 0 | J34: 0 | K34: =SUM(C34:J34) -> 0
B35: 1998/1999 | C35: 0 | D35: 0 | E35: 0 | F35: 0 | G35: 0 | H35: 0 | I35: 0 | J35: 0 | K35: =SUM(C35:J35) -> 0
B36: 1999/2000 | C36: 0 | D36: 0 | E36: 0 | F36: 0 | G36: 0 | H36: 0 | I36: 0 | J36: 0 | K36: =SUM(C36:J36) -> 0
B37: 2000/2001 | C37: 0 | D37: 0 | E37: 0 | F37: 0 | G37: 0 | H37: 0 | I37: 0 | J37: 0 | K37: =SUM(C37:J37) -> 0
B38: 2001/2002 | C38: 0 | D38: 0 | E38: 0 | F38: 0 | G38: 0 | H38: 0 | I38: 0 | J38: 0 | K38: =SUM(C38:J38) -> 0
B39: 2002/2003 | C39: 0 | D39: 0 | E39: 0 | F39: 0 | G39: 0 | H39: 0 | I39: 0 | J39: 0 | K39: =SUM(C39:J39) -> 0
B40: 2003/2004 | C40: 0 | D40: 0 | E40: 0 | F40: 0 | G40: 0 | H40: 0 | I40: 0 | J40: 0 | K40: =SUM(C40:J40) -> 0
B41: 2004/2005 | C41: 0 | D41: 0 | E41: 0 | F41: 0 | G41: 0 | H41: 0 | I41: 0 | J41: 0 | K41: =SUM(C41:J41) -> 0
B42: 2005/2006 | C42: 0 | D42: 0 | E42: 0 | F42: 0 | G42: 0 | H42: 0 | I42: 0 | J42: 0 | K42: =SUM(C42:J42) -> 0
B43: 2006/2007 | C43: 0 | D43: 0 | E43: 0 | F43: 0 | G43: 0 | H43: 0 | I43: 0 | J43: 0 | K43: =SUM(C43:J43) -> 0
B44: 2007/2008 | C44: 6698 | D44: 2458 | E44: 2208 | F44: 362 | G44: 1171 | H44: 639 | I44: 222 | J44: 111 | K44: 13869
B45: 2008/2009 | C45: 14815 | D45: 4858 | E45: 6020 | F45: 1067 | G45: 2688 | H45: 1194 | I45: 546 | J45: 243 | K45: 31431
B46: 2009/2010 | C46: 17481 | D46: 5573 | E46: 7822 | F46: 1273 | G46: 3156 | H46: 1331 | I46: 609 | J46: 317 | K46: 37562
B47: 2010/2011 | C47: 18633 | D47: 5992 | E47: 8710 | F47: 1229 | G47: 3570 | H47: 1481 | I47: 689 | J47: 329 | K47: 40633
B48: 2011/2012 | C48: 20511 | D48: 6406 | E48: 10122 | F48: 1293 | G48: 3940 | H48: 1308 | I48: 756 | J48: 464 | K48: 44800
B49: 2012/2013 | C49: 23088 | D49: 7149 | E49: 11110 | F49: 1410 | G49: 4141 | H49: 1251 | I49: 1039 | J49: 468 | K49: 49656
B50: 2013/2014 | C50: 25483 | D50: 8605 | E50: 12532 | F50: 1577 | G50: 4695 | H50: 1321 | I50: 1091 | J50: 550 | K50: 55854
B51: 2014/2015 | C51: 26934 | D51: 9685 | E51: 14143 | F51: 1903 | G51: 5125 | H51: 1302 | I51: 1500 | J51: 708 | K51: 61300
B52: 2015/2016 | C52: 27314 | D52: 10709 | E52: 15740 | F52: 2057 | G52: 5578 | H52: 1235 | I52: 1581 | J52: 842 | K52: 65056
...

Sheet Strattera 
A1: Strattera | C1: NSW | D1: VIC | E1: QLD | F1: SA | G1: WA | H1: TAS | I1: ACT | J1: NT | K1: Australia
A2: 9092M | B2: 1992/1993 | C2: 0 | D2: 0 | E2: 0 | F2: 0 | G2: 0 | H2: 0 | I2: 0 | J2: 0 | K2: =SUM(C2:J2) -> 0
A3: 10mg | B3: 1993/1994 | C3: 0 | D3: 0 | E3: 0 | F3: 0 | G3: 0 | H3: 0 | I3: 0 | J3: 0 | K3: =SUM(C3:J3) -> 0
B4: 1994/1995 | C4: 0 | D4: 0 | E4: 0 | F4: 0 | G4: 0 | H4: 0 | I4: 0 | J4: 0 | K4: =SUM(C4:J4) -> 0
B5: 1995/1996 | C5: 0 | D5: 0 | E5: 0 | F5: 0 | G5: 0 | H5: 0 | I5: 0 | J5: 0 | K5: =SUM(C5:J5) -> 0
B6: 1996/1997 | C6: 0 | D6: 0 | E6: 0 | F6: 0 | G6: 0 | H6: 0 | I6: 0 | J6: 0 | K6: =SUM(C6:J6) -> 0
B7: 1997/1998 | C7: 0 | D7: 0 | E7: 0 | F7: 0 | G7: 0 | H7: 0 | I7: 0 | J7: 0 | K7: =SUM(C7:J7) -> 0
B8: 1998/1999 | C8: 0 | D8: 0 | E8: 0 | F8: 0 | G8: 0 | H8: 0 | I8: 0 | J8: 0 | K8: =SUM(C8:J8) -> 0
B9: 1999/2000 | C9: 0 | D9: 0 | E9: 0 | F9: 0 | G9: 0 | H9: 0 | I9: 0 | J9: 0 | K9: =SUM(C9:J9) -> 0
B10: 2000/2001 | C10: 0 | D10: 0 | E10: 0 | F10: 0 | G10: 0 | H10: 0 | I10: 0 | J10: 0 | K10: =SUM(C10:J10) -> 0
B11: 2001/2002 | C11: 0 | D11: 0 | E11: 0 | F11: 0 | G11: 0 | H11: 0 | I11: 0 | J11: 0 | K11: =SUM(C11:J11) -> 0
B12: 2002/2003 | C12: 0 | D12: 0 | E12: 0 | F12: 0 | G12: 0 | H12: 0 | I12: 0 | J12: 0 | K12: =SUM(C12:J12) -> 0
B13: 2003/2004 | C13: 0 | D13: 0 | E13: 0 | F13: 0 | G13: 0 | H13: 0 | I13: 0 | J13: 0 | K13: =SUM(C13:J13) -> 0
B14: 2004/2005 | C14: 0 | D14: 0 | E14: 0 | F14: 0 | G14: 0 | H14: 0 | I14: 0 | J14: 0 | K14: =SUM(C14:J14) -> 0
B15: 2005/2006 | C15: 0 | D15: 0 | E15: 0 | F15: 0 | G15: 0 | H15: 0 | I15: 0 | J15: 0 | K15: =SUM(C15:J15) -> 0
... B27: 2017/2018 | C27: 2132 | D27: 1388 | E27: 3145 | F27: 244 | G27: 854 | H27: 510 | I27: 120 | J27: 43 | K27: =SUM(C27:J27) -> 8436
A31: 9093N | B31: 1992/1993 | C31: 0 | D31: 0 | E31: 0 | F31: 0 | G31: 0 | H31: 0 | I31: 0 | J31: 0 | K31: =SUM(C31:J31) -> 0
A32: 18mg | B32: 1993/1994 | C32: 0 | D32: 0 | E32: 0 | F32: 0 | G32: 0 | H32: 0 | I32: 0 | J32: 0 | K32: =SUM(C32:J32) -> 0
B33: 1994/1995 | C33: 0 | D33: 0 | E33: 0 | F33: 0 | G33: 0 | H33: 0 | I33: 0 | J33: 0 | K33: =SUM(C33:J33) -> 0
B34: 1995/1996 | C34: 0 | D34: 0 | E34: 0 | F34: 0 | G34: 0 | H34: 0 | I34: 0 | J34: 0 | K34: =SUM(C34:J34) -> 0
B35: 1996/1997 | C35: 0 | D35: 0 | E35: 0 | F35: 0 | G35: 0 | H35: 0 | I35: 0 | J35: 0 | K35: =SUM(C35:J35) -> 0
B36: 1997/1998 | C36: 0 | D36: 0 | E36: 0 | F36: 0 | G36: 0 | H36: 0 | I36: 0 | J36: 0 | K36: =SUM(C36:J36) -> 0
B37: 1998/1999 | C37: 0 | D37: 0 | E37: 0 | F37: 0 | G37: 0 | H37: 0 | I37: 0 | J37: 0 | K37: =SUM(C37:J37) -> 0
B38: 1999/2000 | C38: 0 | D38: 0 | E38: 0 | F38: 0 | G38: 0 | H38: 0 | I38: 0 | J38: 0 | K38: =SUM(C38:J38) -> 0
B39: 2000/2001 | C39: 0 | D39: 0 | E39: 0 | F39: 0 | G39: 0 | H39: 0 | I39: 0 | J39: 0 | K39: =SUM(C39:J39) -> 0
B40: 2001/2002 | C40: 0 | D40: 0 | E40: 0 | F40: 0 | G40: 0 | H40: 0 | I40: 0 | J40: 0 | K40: =SUM(C40:J40) -> 0
B41: 2002/2003 | C41: 0 | D41: 0 | E41: 0 | F41: 0 | G41: 0 | H41: 0 | I41: 0 | J41: 0 | K41: =SUM(C41:J41) -> 0
B42: 2003/2004 | C42: 0 | D42: 0 | E42: 0 | F42: 0 | G42: 0 | H42: 0 | I42: 0 | J42: 0 | K42: =SUM(C42:J42) -> 0
B43: 2004/2005 | C43: 0 | D43: 0 | E43: 0 | F43: 0 | G43: 0 | H43: 0 | I43: 0 | J43: 0 | K43: =SUM(C43:J43) -> 0
B44: 2005/2006 | C44: 0 | D44: 0 | E44: 0 | F44: 0 | G44: 0 | H44: 0 | I44: 0 | J44: 0 | K44: =SUM(C44:J44) -> 0
B45: 2006/2007 | C45: 0 | D45: 0 | E45: 0 | F45: 0 | G45: 0 | H45: 0 | I45: 0 | J45: 0 | K45: =SUM(C45:J45) -> 0
B46: 2007/2008 | C46: 571 | D46: 306 | E46: 464 | F46: 96 | G46: 182 | H46: 17 | I46: 20 | J46: 4 | K46: 1660
B47: 2008/2009 | C47: 828 | D47: 412 | E47: 1132 | F47: 140 | G47: 281 | H47: 32 | I47: 93 | J47: 13 | K47: 2931
B48: 2009/2010 | C48: 962 | D48: 539 | E48: 1245 | F48: 159 | G48: 192 | H48: 52 | I48: 85 | J48: 12 | K48: 3246
B49: 2010/2011 | C49: 1129 | D49: 539 | E49: 1450 | F49: 197 | G49: 168 | H49: 88 | I49: 187 | J49: 36 | K49: 3794
B50: 2011/2012 | C50: 1151 | D50: 574 | E50: 1545 | F50: 202 | G50: 264 | H50: 96 | I50: 131 | J50: 51 | K50: 4014
B51: 2012/2013 | C51: 1259 | D51: 713 | E51: 1582 | F51: 183 | G51: 261 | H51: 83 | I51: 109 | J51: 34 | K51: 4224
B52: 2013/2014 | C52: 1376 | D52: 804 | E52: 1617 | F52: 143 | G52: 340 | H52: 111 | I52: 127 | J52: 28 | K52: 4546
B53: 2014/2015 | C53: 1623 | D53: 870 | E53: 1923 | F53: 151 | G53: 348 | H53: 132 | I53: 112 | J53: 16 | K53: 5175
B54: 2015/2016 | C54: 1774 | D54: 789 | E54: 2109 | F54: 119 | G54: 493 | H54: 102 | I54: 100 | J54: 25 | K54: 5511
...

Sheet Ritalin LA
A1: Ritalin LA | C1: NSW | D1: VIC | E1: QLD | F1: SA | G1: WA | H1: TAS | I1: ACT | J1: NT | K1: Australia
A2: 2276T | B2: 1992/1993 | C2: 0 | D2: 0 | E2: 0 | F2: 0 | G2: 0 | H2: 0 | I2: 0 | J2: 0 | K2: =SUM(C2:J3) -> 0
A3: 20mg | B3: 1993/1994 | C3: 0 | D3: 0 | E3: 0 | F3: 0 | G3: 0 | H3: 0 | I3: 0 | J3: 0 | K3: =SUM(C3:J4) -> 0
B4: 1994/1995 | C4: 0 | D4: 0 | E4: 0 | F4: 0 | G4: 0 | H4: 0 | I4: 0 | J4: 0 | K4: =SUM(C4:J5) -> 0
B5: 1995/1996 | C5: 0 | D5: 0 | E5: 0 | F5: 0 | G5: 0 | H5: 0 | I5: 0 | J5: 0 | K5: =SUM(C5:J6) -> 0
B6: 1996/1997 | C6: 0 | D6: 0 | E6: 0 | F6: 0 | G6: 0 | H6: 0 | I6: 0 | J6: 0 | K6: =SUM(C6:J7) -> 0
B7: 1997/1998 | C7: 0 | D7: 0 | E7: 0 | F7: 0 | G7: 0 | H7: 0 | I7: 0 | J7: 0 | K7: =SUM(C7:J8) -> 0
B8: 1998/1999 | C8: 0 | D8: 0 | E8: 0 | F8: 0 | G8: 0 | H8: 0 | I8: 0 | J8: 0 | K8: =SUM(C8:J9) -> 0
B9: 1999/2000 | C9: 0 | D9: 0 | E9: 0 | F9: 0 | G9: 0 | H9: 0 | I9: 0 | J9: 0 | K9: =SUM(C9:J10) -> 0
B10: 2000/2001 | C10: 0 | D10: 0 | E10: 0 | F10: 0 | G10: 0 | H10: 0 | I10: 0 | J10: 0 | K10: =SUM(C10:J11) -> 0
B11: 2001/2002 | C11: 0 | D11: 0 | E11: 0 | F11: 0 | G11: 0 | H11: 0 | I11: 0 | J11: 0 | K11: =SUM(C11:J12) -> 0
B12: 2002/2003 | C12: 0 | D12: 0 | E12: 0 | F12: 0 | G12: 0 | H12: 0 | I12: 0 | J12: 0 | K12: =SUM(C12:J13) -> 0
B13: 2003/2004 | C13: 0 | D13: 0 | E13: 0 | F13: 0 | G13: 0 | H13: 0 | I13: 0 | J13: 0 | K13: =SUM(C13:J14) -> 0
B14: 2004/2005 | C14: 0 | D14: 0 | E14: 0 | F14: 0 | G14: 0 | H14: 0 | I14: 0 | J14: 0 | K14: =SUM(C14:J15) -> 0
B15: 2005/2006 | C15: 0 | D15: 0 | E15: 0 | F15: 0 | G15: 0 | H15: 0 | I15: 0 | J15: 0 | K15: =SUM(C15:J16) -> 0
B16: 2006/2007 | C16: 0 | D16: 0 | E16: 0 | F16: 0 | G16: 0 | H16: 0 | I16: 0 | J16: 0 | K16: =SUM(C16:J16) -> 0
B17: 2007/2008 | C17: 428 | D17: 268 | E17: 226 | F17: 42 | G17: 153 | H17: 25 | I17: 18 | J17: 24 | K17: =SUM(C17:J17) -> 1184
B18: 2008/2009 | C18: 7730 | D18: 3897 | E18: 4068 | F18: 608 | G18: 2242 | H18: 272 | I18: 296 | J18: 133 | K18: =SUM(C18:J18) -> 19246
B19: 2009/2010 | C19: 10784 | D19: 5270 | E19: 5310 | F19: 845 | G19: 2924 | H19: 492 | I19: 453 | J19: 187 | K19: =SUM(C19:J19) -> 26265
B20: 2010/2011 | C20: 12773 | D20: 5793 | E20: 6108 | F20: 870 | G20: 3446 | H20: 658 | I20: 543 | J20: 171 | K20: =SUM(C20:J20) -> 30362
B21: 2011/2012 | C21: 14619 | D21: 6609 | E21: 7338 | F21: 1020 | G21: 4462 | H21: 842 | I21: 645 | J21: 252 | K21: =SUM(C21:J21) -> 35787
B22: 2012/2013 | C22: 16851 | D22: 7369 | E22: 8447 | F22: 1154 | G22: 5219 | H22: 905 | I22: 737 | J22: 246 | K22: =SUM(C22:J22) -> 40928
B23: 2013/2014 | C23: 18876 | D23: 8347 | E23: 10482 | F23: 1250 | G23: 6459 | H23: 1191 | I23: 1140 | J23: 230 | K23: =SUM(C23:J23) -> 47975
B24: 2014/2015 | C24: 19803 | D24: 9751 | E24: 12084 | F24: 1383 | G24: 6981 | H24: 1409 | I24: 1217 | J24: 332 | K24: =SUM(C24:J24) -> 52960
B25: 2015/2016 | C25: 20462 | D25: 10225 | E25: 13609 | F25: 1369 | G25: 7605 | H25: 1357 | I25: 1293 | J25: 394 | K25: =SUM(C25:J25) -> 56314
B26: 2016/2017 | C26: 21114 | D26: 11113 | E26: 13574 | F26: 1337 | G26: 7591 | H26: 1119 | I26: 1566 | J26: 513 | K26: =SUM(C26:J26) -> 57927
B27: 2017/2018 | C27: 21664 | D27: 11901 | E27: 14298 | F27: 1543 | G27: 7191 | H27: 1233 | I27: 1712 | J27: 690 | K27: =SUM(C27:J27) -> 60232
A31: 2280B | B31: 1992/1993 | C31: 0 | D31: 0 | E31: 0 | F31: 0 | G31: 0 | H31: 0 | I31: 0 | J31: 0 | K31: =SUM(C31:J32) -> 0
A32: 30mg | B32: 1993/1994 | C32: 0 | D32: 0 | E32: 0 | F32: 0 | G32: 0 | H32: 0 | I32: 0 | J32: 0 | K32: =SUM(C32:J33) -> 0
B33: 1994/1995 | C33: 0 | D33: 0 | E33: 0 | F33: 0 | G33: 0 | H33: 0 | I33: 0 | J33: 0 | K33: =SUM(C33:J34) -> 0
B34: 1995/1996 | C34: 0 | D34: 0 | E34: 0 | F34: 0 | G34: 0 | H34: 0 | I34: 0 | J34: 0 | K34: =SUM(C34:J35) -> 0
B35: 1996/1997 | C35: 0 | D35: 0 | E35: 0 | F35: 0 | G35: 0 | H35: 0 | I35: 0 | J35: 0 | K35: =SUM(C35:J36) -> 0
B36: 1997/1998 | C36: 0 | D36: 0 | E36: 0 | F36: 0 | G36: 0 | H36: 0 | I36: 0 | J36: 0 | K36: =SUM(C36:J37) -> 0
B37: 1998/1999 | C37: 0 | D37: 0 | E37: 0 | F37: 0 | G37: 0 | H37: 0 | I37: 0 | J37: 0 | K37: =SUM(C37:J38) -> 0
B38: 1999/2000 | C38: 0 | D38: 0 | E38: 0 | F38: 0 | G38: 0 | H38: 0 | I38: 0 | J38: 0 | K38: =SUM(C38:J39) -> 0
B39: 2000/2001 | C39: 0 | D39: 0 | E39: 0 | F39: 0 | G39: 0 | H39: 0 | I39: 0 | J39: 0 | K39: =SUM(C39:J40) -> 0
B40: 2001/2002 | C40: 0 | D40: 0 | E40: 0 | F40: 0 | G40: 0 | H40: 0 | I40: 0 | J40: 0 | K40: =SUM(C40:J41) -> 0
B41: 2002/2003 | C41: 0 | D41: 0 | E41: 0 | F41: 0 | G41: 0 | H41: 0 | I41: 0 | J41: 0 | K41: =SUM(C41:J42) -> 0
B42: 2003/2004 | C42: 0 | D42: 0 | E42: 0 | F42: 0 | G42: 0 | H42: 0 | I42: 0 | J42: 0 | K42: =SUM(C42:J43) -> 0
B43: 2004/2005 | C43: 0 | D43: 0 | E43: 0 | F43: 0 | G43: 0 | H43: 0 | I43: 0 | J43: 0 | K43: =SUM(C43:J44) -> 0
...

Sheet Lisdexamfetamine
A1: Lisdexamfetamine | C1: NSW | D1: VIC | E1: QLD | F1: SA | G1: WA | H1: TAS | I1: ACT | J1: NT | K1: Australia
A2: 10486X | B2: 1992/1993 | C2: 0 | D2: 0 | E2: 0 | F2: 0 | G2: 0 | H2: 0 | I2: 0 | J2: 0 | K2: =SUM(C2:J2) -> 0
A3: 30mg | B3: 1993/1994 | C3: 0 | D3: 0 | E3: 0 | F3: 0 | G3: 0 | H3: 0 | I3: 0 | J3: 0 | K3: =SUM(C3:J3) -> 0
B4: 1994/1995 | C4: 0 | D4: 0 | E4: 0 | F4: 0 | G4: 0 | H4: 0 | I4: 0 | J4: 0 | K4: =SUM(C4:J4) -> 0
B5: 1995/1996 | C5: 0 | D5: 0 | E5: 0 | F5: 0 | G5: 0 | H5: 0 | I5: 0 | J5: 0 | K5: =SUM(C5:J5) -> 0
B6: 1996/1997 | C6: 0 | D6: 0 | E6: 0 | F6: 0 | G6: 0 | H6: 0 | I6: 0 | J6: 0 | K6: =SUM(C6:J6) -> 0
B7: 1997/1998 | C7: 0 | D7: 0 | E7: 0 | F7: 0 | G7: 0 | H7: 0 | I7: 0 | J7: 0 | K7: =SUM(C7:J7) -> 0
B8: 1998/1999 | C8: 0 | D8: 0 | E8: 0 | F8: 0 | G8: 0 | H8: 0 | I8: 0 | J8: 0 | K8: =SUM(C8:J8) -> 0
B9: 1999/2000 | C9: 0 | D9: 0 | E9: 0 | F9: 0 | G9: 0 | H9: 0 | I9: 0 | J9: 0 | K9: =SUM(C9:J9) -> 0
B10: 2000/2001 | C10: 0 | D10: 0 | E10: 0 | F10: 0 | G10: 0 | H10: 0 | I10: 0 | J10: 0 | K10: =SUM(C10:J10) -> 0
B11: 2001/2002 | C11: 0 | D11: 0 | E11: 0 | F11: 0 | G11: 0 | H11: 0 | I11: 0 | J11: 0 | K11: =SUM(C11:J11) -> 0
B12: 2002/2003 | C12: 0 | D12: 0 | E12: 0 | F12: 0 | G12: 0 | H12: 0 | I12: 0 | J12: 0 | K12: =SUM(C12:J12) -> 0
B13: 2003/2004 | C13: 0 | D13: 0 | E13: 0 | F13: 0 | G13: 0 | H13: 0 | I13: 0 | J13: 0 | K13: =SUM(C13:J13) -> 0
B14: 2004/2005 | C14: 0 | D14: 0 | E14: 0 | F14: 0 | G14: 0 | H14: 0 | I14: 0 | J14: 0 | K14: =SUM(C14:J14) -> 0
B15: 2005/2006 | C15: 0 | D15: 0 | E15: 0 | F15: 0 | G15: 0 | H15: 0 | I15: 0 | J15: 0 | K15: =SUM(C15:J15) -> 0
... B27: 2017/2018 | C27: 37807 | D27: 21168 | E27: 23185 | F27: 3205 | G27: 18771 | H27: 1921 | I27: 2504 | J27: 608 | K27: =SUM(C27:J27) -> 109169
A31: 10474G | B31: 1992/1993 | C31: 0 | D31: 0 | E31: 0 | F31: 0 | G31: 0 | H31: 0 | I31: 0 | J31: 0 | K31: =SUM(C31:J31) -> 0
A32: 50mg | B32: 1993/1994 | C32: 0 | D32: 0 | E32: 0 | F32: 0 | G32: 0 | H32: 0 | I32: 0 | J32: 0 | K32: =SUM(C32:J32) -> 0
B33: 1994/1995 | C33: 0 | D33: 0 | E33: 0 | F33: 0 | G33: 0 | H33: 0 | I33: 0 | J33: 0 | K33: =SUM(C33:J33) -> 0
B34: 1995/1996 | C34: 0 | D34: 0 | E34: 0 | F34: 0 | G34: 0 | H34: 0 | I34: 0 | J34: 0 | K34: =SUM(C34:J34) -> 0
B35: 1996/1997 | C35: 0 | D35: 0 | E35: 0 | F35: 0 | G35: 0 | H35: 0 | I35: 0 | J35: 0 | K35: =SUM(C35:J35) -> 0
B36: 1997/1998 | C36: 0 | D36: 0 | E36: 0 | F36: 0 | G36: 0 | H36: 0 | I36: 0 | J36: 0 | K36: =SUM(C36:J36) -> 0
B37: 1998/1999 | C37: 0 | D37: 0 | E37: 0 | F37: 0 | G37: 0 | H37: 0 | I37: 0 | J37: 0 | K37: =SUM(C37:J37) -> 0
B38: 1999/2000 | C38: 0 | D38: 0 | E38: 0 | F38: 0 | G38: 0 | H38: 0 | I38: 0 | J38: 0 | K38: =SUM(C38:J38) -> 0
B39: 2000/2001 | C39: 0 | D39: 0 | E39: 0 | F39: 0 | G39: 0 | H39: 0 | I39: 0 | J39: 0 | K39: =SUM(C39:J39) -> 0
B40: 2001/2002 | C40: 0 | D40: 0 | E40: 0 | F40: 0 | G40: 0 | H40: 0 | I40: 0 | J40: 0 | K40: =SUM(C40:J40) -> 0
B41: 2002/2003 | C41: 0 | D41: 0 | E41: 0 | F41: 0 | G41: 0 | H41: 0 | I41: 0 | J41: 0 | K41: =SUM(C41:J41) -> 0
B42: 2003/2004 | C42: 0 | D42: 0 | E42: 0 | F42: 0 | G42: 0 | H42: 0 | I42: 0 | J42: 0 | K42: =SUM(C42:J42) -> 0
B43: 2004/2005 | C43: 0 | D43: 0 | E43: 0 | F43: 0 | G43: 0 | H43: 0 | I43: 0 | J43: 0 | K43: =SUM(C43:J43) -> 0
B44: 2005/2006 | C44: 0 | D44: 0 | E44: 0 | F44: 0 | G44: 0 | H44: 0 | I44: 0 | J44: 0 | K44: =SUM(C44:J44) -> 0
... B56: 2017/2018 | C56: 22055 | D56: 12185 | E56: 12881 | F56: 1570 | G56: 10626 | H56: 1239 | I56: 1534 | J56: 272 | K56: =SUM(C56:J56) -> 62362
A60: 10492F | B60: 1992/1993 | C60: 0 | D60: 0 | E60: 0 | F60: 0 | G60: 0 | H60: 0 | I60: 0 | J60: 0 | K60: =SUM(C60:J60) -> 0
A61: 70mg | B61: 1993/1994 | C61: 0 | D61: 0 | E61: 0 | F61: 0 | G61: 0 | H61: 0 | I61: 0 | J61: 0 | K61: =SUM(C61:J61) -> 0
B62: 1994/1995 | C62: 0 | D62: 0 | E62: 0 | F62: 0 | G62: 0 | H62: 0 | I62: 0 | J62: 0 | K62: =SUM(C62:J62) -> 0
B63: 1995/1996 | C63: 0 | D63: 0 | E63: 0 | F63: 0 | G63: 0 | H63: 0 | I63: 0 | J63: 0 | K63: =SUM(C63:J63) -> 0
B64: 1996/1997 | C64: 0 | D64: 0 | E64: 0 | F64: 0 | G64: 0 | H64: 0 | I64: 0 | J64: 0 | K64: =SUM(C64:J64) -> 0
B65: 1997/1998 | C65: 0 | D65: 0 | E65: 0 | F65: 0 | G65: 0 | H65: 0 | I65: 0 | J65: 0 | K65: =SUM(C65:J65) -> 0
B66: 1998/1999 | C66: 0 | D66: 0 | E66: 0 | F66: 0 | G66: 0 | H66: 0 | I66: 0 | J66: 0 | K66: =SUM(C66:J66) -> 0
B67: 1999/2000 | C67: 0 | D67: 0 | E67: 0 | F67: 0 | G67: 0 | H67: 0 | I67: 0 | J67: 0 | K67: =SUM(C67:J67) -> 0
B68: 2000/2001 | C68: 0 | D68: 0 | E68: 0 | F68: 0 | G68: 0 | H68: 0 | I68: 0 | J68: 0 | K68: =SUM(C68:J68) -> 0
...

Sheet Sheet4

Sheet Sheet5

Sheet Sheet6
